BEGIN:VCALENDAR
VERSION:2.0
PRODID:-//Tampa Museum of Art - ECPv6.15.20//NONSGML v1.0//EN
CALSCALE:GREGORIAN
METHOD:PUBLISH
X-WR-CALNAME:Tampa Museum of Art
X-ORIGINAL-URL:https://tampamuseum.org
X-WR-CALDESC:Events for Tampa Museum of Art
REFRESH-INTERVAL;VALUE=DURATION:PT1H
X-Robots-Tag:noindex
X-PUBLISHED-TTL:PT1H
BEGIN:VTIMEZONE
TZID:America/New_York
BEGIN:DAYLIGHT
TZOFFSETFROM:-0500
TZOFFSETTO:-0400
TZNAME:EDT
DTSTART:20250309T070000
END:DAYLIGHT
BEGIN:STANDARD
TZOFFSETFROM:-0400
TZOFFSETTO:-0500
TZNAME:EST
DTSTART:20251102T060000
END:STANDARD
BEGIN:DAYLIGHT
TZOFFSETFROM:-0500
TZOFFSETTO:-0400
TZNAME:EDT
DTSTART:20260308T070000
END:DAYLIGHT
BEGIN:STANDARD
TZOFFSETFROM:-0400
TZOFFSETTO:-0500
TZNAME:EST
DTSTART:20261101T060000
END:STANDARD
BEGIN:DAYLIGHT
TZOFFSETFROM:-0500
TZOFFSETTO:-0400
TZNAME:EDT
DTSTART:20270314T070000
END:DAYLIGHT
BEGIN:STANDARD
TZOFFSETFROM:-0400
TZOFFSETTO:-0500
TZNAME:EST
DTSTART:20271107T060000
END:STANDARD
END:VTIMEZONE
BEGIN:VEVENT
DTSTART;TZID=America/New_York:20260717T110000
DTEND;TZID=America/New_York:20260717T120000
DTSTAMP:20260422T181846
CREATED:20260422T181514Z
LAST-MODIFIED:20260422T181514Z
UID:10008557-1784286000-1784289600@tampamuseum.org
SUMMARY:Art Conversation - Remixed: Florida Artists Look at Art History
DESCRIPTION:Join us for an engaging and interactive discussion at the Robert W. Saunders\, Sr. Public Library. \nJoanna Robotham\, Curator of Modern and Contemporary Art at the Tampa Museum of Art\, will present a talk on Florida artists Pepe Mar\, Mernet Larsen\, Purvis Young\, and Theo Wujcik. Inspired by art history\, the artists create unique artworks that demonstrate the influence of Old Master painters\, the Russian Avant-Garde\, the Impressionists\, and 20th-century trailblazers. This presentation will highlight how contemporary artists have created a union between the past and the present in their works of art. \nPepe Mar\, Mernet Larsen\, Purvis Young\, and Theo Wujcik’s art are part of the Tampa Museum of Art’s permanent collection. They are featured artists in the poster exhibition Made in Florida\, on view across the Hillsborough County Library system. \nRegister for this Program \nImage: Theo Wujcik (American\, 1936-2014)\, Nuenen\, 1986\, Acrylic and paper collage on canvas\, 102 1/8 x 69 1/4 inches\, Tampa Museum of Art\, Gift given in memory of Charles Parkhill Lykes by his daughter\, Genevieve Lykes Dimmitt\, 1998.037.a-.b
URL:https://tampamuseum.org/event/art-conversation-remixed-florida-artists-look-at-art-history/
LOCATION:Robert W. Saunders\, Sr. Public Library\, 1505 N Nebraska\, Tampa\, 33605\, United States
CATEGORIES:Adults,Free Event,Lectures & Talks
ATTACH;FMTTYPE=image/jpeg:https://tampamuseum.org/wp-content/uploads/2018/05/Wujcik_Neunen-1050x773.jpg
END:VEVENT
END:VCALENDAR