BEGIN:VCALENDAR
VERSION:2.0
PRODID:-//Tampa Museum of Art - ECPv6.15.20//NONSGML v1.0//EN
CALSCALE:GREGORIAN
METHOD:PUBLISH
X-ORIGINAL-URL:https://tampamuseum.org
X-WR-CALDESC:Events for Tampa Museum of Art
REFRESH-INTERVAL;VALUE=DURATION:PT1H
X-Robots-Tag:noindex
X-PUBLISHED-TTL:PT1H
BEGIN:VTIMEZONE
TZID:America/New_York
BEGIN:DAYLIGHT
TZOFFSETFROM:-0500
TZOFFSETTO:-0400
TZNAME:EDT
DTSTART:20250309T070000
END:DAYLIGHT
BEGIN:STANDARD
TZOFFSETFROM:-0400
TZOFFSETTO:-0500
TZNAME:EST
DTSTART:20251102T060000
END:STANDARD
BEGIN:DAYLIGHT
TZOFFSETFROM:-0500
TZOFFSETTO:-0400
TZNAME:EDT
DTSTART:20260308T070000
END:DAYLIGHT
BEGIN:STANDARD
TZOFFSETFROM:-0400
TZOFFSETTO:-0500
TZNAME:EST
DTSTART:20261101T060000
END:STANDARD
BEGIN:DAYLIGHT
TZOFFSETFROM:-0500
TZOFFSETTO:-0400
TZNAME:EDT
DTSTART:20270314T070000
END:DAYLIGHT
BEGIN:STANDARD
TZOFFSETFROM:-0400
TZOFFSETTO:-0500
TZNAME:EST
DTSTART:20271107T060000
END:STANDARD
END:VTIMEZONE
BEGIN:VEVENT
DTSTART;TZID=America/New_York:20260423T180000
DTEND;TZID=America/New_York:20260423T193000
DTSTAMP:20260422T044539
CREATED:20260401T174820Z
LAST-MODIFIED:20260416T185916Z
UID:10006723-1776967200-1776972600@tampamuseum.org
SUMMARY:Charles Atlas: Film Screening and Conversation at the University of Tampa
DESCRIPTION:Charles Atlas: Film Screening & Conversation\nJoin us on the University of Tampa campus for a screening of Tyranny of Consciousness and Channels/Inserts by American artist Charles Atlas\, a pioneering filmmaker and video artist. Since the 1970s\, Atlas has created an influential body of work that reimagines the relationship between choreography\, performance\, and the moving image. \nFollowing the screening\, Charles Atlas will join us live via Zoom for a Q&A\, offering a unique opportunity to hear directly from the artist about his practice and groundbreaking career. \nThe program will include an introduction and post-screening discussion led by Timothy Ridlen\, Professor of Film\, Animation\, and New Media at the University of Tampa\, and Joanna Robotham\, Curator of Modern and Contemporary Art at the Tampa Museum of Art. This program is presented in conjunction with Atlas’s Kiss the Day Goodbye\, currently on view at the Tampa Museum of Art. \nLocation:\n Ferman Center for the Arts\n University of Tampa\n 214 N. Blvd.\n Tampa\, FL 33606 \nParking:\nFree parking is available in the Rick Thomas Parking Garage and the West Parking Garage on campus. \nAdmission:\nThis event is free and open to the public. \nPlease contact Education@TampaMuseum.org with any questions about this event. \nRSVP for this program \nImage Caption: Charles Atlas (American\, b. 1949)\, Kiss the Day Goodbye\, 2015. Two channel video installation with color and sound. Running time: 19 minutes\, 15 seconds. Courtesy of the artist and Luhring Augustine\, New York. Installation view at the Tampa Museum of Art. Photography by Paige Boscia.
URL:https://tampamuseum.org/event/charles-atlas-film-screening-and-conversation-at-the-university-of-tampa/
LOCATION:University of Tampa – Ferman Center for the Arts\, 214 N. Blvd\, Tampa\, FL\, 33606\, United States
CATEGORIES:Adults,Lectures & Talks
ATTACH;FMTTYPE=image/jpeg:https://tampamuseum.org/wp-content/uploads/2025/08/Charles-Atlas-Installation-Photos-12-WEB.jpg
END:VEVENT
END:VCALENDAR