BEGIN:VCALENDAR
VERSION:2.0
PRODID:-//Tampa Museum of Art - ECPv6.15.20//NONSGML v1.0//EN
CALSCALE:GREGORIAN
METHOD:PUBLISH
X-WR-CALNAME:Tampa Museum of Art
X-ORIGINAL-URL:https://tampamuseum.org
X-WR-CALDESC:Events for Tampa Museum of Art
REFRESH-INTERVAL;VALUE=DURATION:PT1H
X-Robots-Tag:noindex
X-PUBLISHED-TTL:PT1H
BEGIN:VTIMEZONE
TZID:America/New_York
BEGIN:DAYLIGHT
TZOFFSETFROM:-0500
TZOFFSETTO:-0400
TZNAME:EDT
DTSTART:20260308T070000
END:DAYLIGHT
BEGIN:STANDARD
TZOFFSETFROM:-0400
TZOFFSETTO:-0500
TZNAME:EST
DTSTART:20261101T060000
END:STANDARD
BEGIN:DAYLIGHT
TZOFFSETFROM:-0500
TZOFFSETTO:-0400
TZNAME:EDT
DTSTART:20270314T070000
END:DAYLIGHT
BEGIN:STANDARD
TZOFFSETFROM:-0400
TZOFFSETTO:-0500
TZNAME:EST
DTSTART:20271107T060000
END:STANDARD
BEGIN:DAYLIGHT
TZOFFSETFROM:-0500
TZOFFSETTO:-0400
TZNAME:EDT
DTSTART:20280312T070000
END:DAYLIGHT
BEGIN:STANDARD
TZOFFSETFROM:-0400
TZOFFSETTO:-0500
TZNAME:EST
DTSTART:20281105T060000
END:STANDARD
END:VTIMEZONE
BEGIN:VEVENT
DTSTART;TZID=America/New_York:20270725T090000
DTEND;TZID=America/New_York:20270725T110000
DTSTAMP:20260425T235709
CREATED:20251020T183519Z
LAST-MODIFIED:20251020T183520Z
UID:10005954-1816506000-1816513200@tampamuseum.org
SUMMARY:Art on the Spectrum
DESCRIPTION:Art on the Spectrum Hours:\nLast Sunday of Each Month\, 9am – 11am \nArt on the Spectrum is a special monthly event designed to welcome individuals with sensory sensitivities\, developmental differences\, and their caregivers. Enjoy exploring the museum in a calm\, low-crowd environment with sensory-friendly tools and supportive assistance available. You can borrow noise-canceling headphones or other sensory items from the front desk as well – just ask! This event offers children and their families a chance to connect with others who share similar experiences\, while enjoying all the museum has to offer. \nFree admission for Art on the Spectrum is made possible thanks to: The Autism License Plate Fund and The Autism Services Grants Council. \nArt on the Spectrum is hosted by the Tampa Museum of Art in partnership with the Center for Autism & Related Disabilities (C.A.R.D.) at the University of South Florida. \nQuestions? Please contact hello@tampamuseum.org 
URL:https://tampamuseum.org/event/art-on-the-spectrum-2-2/2027-07-25/
LOCATION:Tampa Museum of Art\, 120 W Gasparilla Plaza\, Tampa\, FL\, 33602\, United States
CATEGORIES:Children & Family
ATTACH;FMTTYPE=image/jpeg:https://tampamuseum.org/wp-content/uploads/2025/01/Juneteenth-2024-06-15-76_00000.jpg
GEO:27.9495219;-82.4626673
X-APPLE-STRUCTURED-LOCATION;VALUE=URI;X-ADDRESS=Tampa Museum of Art 120 W Gasparilla Plaza Tampa FL 33602 United States;X-APPLE-RADIUS=500;X-TITLE=120 W Gasparilla Plaza:geo:-82.4626673,27.9495219
END:VEVENT
BEGIN:VEVENT
DTSTART;TZID=America/New_York:20270725T110000
DTEND;TZID=America/New_York:20270725T111000
DTSTAMP:20260425T235709
CREATED:20260423T164728Z
LAST-MODIFIED:20260423T164728Z
UID:10007189-1816513200-1816513800@tampamuseum.org
SUMMARY:Gallery Chats
DESCRIPTION:Join the Visitor Experience Team for brief\, casual 5–10-minute Gallery Chats offered at 11 am and 3 pm. \nLed by the Visitor Experience Team\, these conversations are a great way to get an in-depth view of the art and further familiarize yourself with our exciting permanent collection and exhibitions. If you’re a first-time guest or long-time art enthusiast stopping in\, we invite you to join us and discover something new! \nOur Gallery Chats are free with admission and open to all visitors. Subject to change based on staff availability. \n 
URL:https://tampamuseum.org/event/gallery-chats/2027-07-25/
LOCATION:Tampa Museum of Art\, 120 W Gasparilla Plaza\, Tampa\, FL\, 33602\, United States
CATEGORIES:Gallery Activities & Tours
ATTACH;FMTTYPE=image/jpeg:https://tampamuseum.org/wp-content/uploads/2026/04/Gallery-Talks-2026-1.jpg
GEO:27.9495219;-82.4626673
X-APPLE-STRUCTURED-LOCATION;VALUE=URI;X-ADDRESS=Tampa Museum of Art 120 W Gasparilla Plaza Tampa FL 33602 United States;X-APPLE-RADIUS=500;X-TITLE=120 W Gasparilla Plaza:geo:-82.4626673,27.9495219
END:VEVENT
BEGIN:VEVENT
DTSTART;TZID=America/New_York:20270725T150000
DTEND;TZID=America/New_York:20270725T151000
DTSTAMP:20260425T235709
CREATED:20260424T192544Z
LAST-MODIFIED:20260424T192544Z
UID:10009022-1816527600-1816528200@tampamuseum.org
SUMMARY:Gallery Chats
DESCRIPTION:Join the Visitor Experience Team for brief\, casual 5–10-minute Gallery Chats offered at 11 am and 3 pm. \nLed by the Visitor Experience Team\, these conversations are a great way to get an in-depth view of the art and further familiarize yourself with our exciting permanent collection and exhibitions. If you’re a first-time guest or long-time art enthusiast stopping in\, we invite you to join us and discover something new! \nOur Gallery Chats are free with admission and open to all visitors. Subject to change based on staff availability.
URL:https://tampamuseum.org/event/gallery-chats-2/2027-07-25/
LOCATION:Tampa Museum of Art\, 120 W Gasparilla Plaza\, Tampa\, FL\, 33602\, United States
CATEGORIES:Adults,Children & Family,Educators,Gallery Activities & Tours,Lectures & Talks
ATTACH;FMTTYPE=image/jpeg:https://tampamuseum.org/wp-content/uploads/2026/04/Gallery-Talks-2026-1.jpg
GEO:27.9495219;-82.4626673
X-APPLE-STRUCTURED-LOCATION;VALUE=URI;X-ADDRESS=Tampa Museum of Art 120 W Gasparilla Plaza Tampa FL 33602 United States;X-APPLE-RADIUS=500;X-TITLE=120 W Gasparilla Plaza:geo:-82.4626673,27.9495219
END:VEVENT
BEGIN:VEVENT
DTSTART;TZID=America/New_York:20270726T110000
DTEND;TZID=America/New_York:20270726T111000
DTSTAMP:20260425T235709
CREATED:20260423T164728Z
LAST-MODIFIED:20260423T164728Z
UID:10007190-1816599600-1816600200@tampamuseum.org
SUMMARY:Gallery Chats
DESCRIPTION:Join the Visitor Experience Team for brief\, casual 5–10-minute Gallery Chats offered at 11 am and 3 pm. \nLed by the Visitor Experience Team\, these conversations are a great way to get an in-depth view of the art and further familiarize yourself with our exciting permanent collection and exhibitions. If you’re a first-time guest or long-time art enthusiast stopping in\, we invite you to join us and discover something new! \nOur Gallery Chats are free with admission and open to all visitors. Subject to change based on staff availability. \n 
URL:https://tampamuseum.org/event/gallery-chats/2027-07-26/
LOCATION:Tampa Museum of Art\, 120 W Gasparilla Plaza\, Tampa\, FL\, 33602\, United States
CATEGORIES:Gallery Activities & Tours
ATTACH;FMTTYPE=image/jpeg:https://tampamuseum.org/wp-content/uploads/2026/04/Gallery-Talks-2026-1.jpg
GEO:27.9495219;-82.4626673
X-APPLE-STRUCTURED-LOCATION;VALUE=URI;X-ADDRESS=Tampa Museum of Art 120 W Gasparilla Plaza Tampa FL 33602 United States;X-APPLE-RADIUS=500;X-TITLE=120 W Gasparilla Plaza:geo:-82.4626673,27.9495219
END:VEVENT
BEGIN:VEVENT
DTSTART;TZID=America/New_York:20270726T150000
DTEND;TZID=America/New_York:20270726T151000
DTSTAMP:20260425T235709
CREATED:20260424T192544Z
LAST-MODIFIED:20260424T192544Z
UID:10009023-1816614000-1816614600@tampamuseum.org
SUMMARY:Gallery Chats
DESCRIPTION:Join the Visitor Experience Team for brief\, casual 5–10-minute Gallery Chats offered at 11 am and 3 pm. \nLed by the Visitor Experience Team\, these conversations are a great way to get an in-depth view of the art and further familiarize yourself with our exciting permanent collection and exhibitions. If you’re a first-time guest or long-time art enthusiast stopping in\, we invite you to join us and discover something new! \nOur Gallery Chats are free with admission and open to all visitors. Subject to change based on staff availability.
URL:https://tampamuseum.org/event/gallery-chats-2/2027-07-26/
LOCATION:Tampa Museum of Art\, 120 W Gasparilla Plaza\, Tampa\, FL\, 33602\, United States
CATEGORIES:Adults,Children & Family,Educators,Gallery Activities & Tours,Lectures & Talks
ATTACH;FMTTYPE=image/jpeg:https://tampamuseum.org/wp-content/uploads/2026/04/Gallery-Talks-2026-1.jpg
GEO:27.9495219;-82.4626673
X-APPLE-STRUCTURED-LOCATION;VALUE=URI;X-ADDRESS=Tampa Museum of Art 120 W Gasparilla Plaza Tampa FL 33602 United States;X-APPLE-RADIUS=500;X-TITLE=120 W Gasparilla Plaza:geo:-82.4626673,27.9495219
END:VEVENT
BEGIN:VEVENT
DTSTART;TZID=America/New_York:20270727T110000
DTEND;TZID=America/New_York:20270727T111000
DTSTAMP:20260425T235709
CREATED:20260423T164728Z
LAST-MODIFIED:20260423T164728Z
UID:10007191-1816686000-1816686600@tampamuseum.org
SUMMARY:Gallery Chats
DESCRIPTION:Join the Visitor Experience Team for brief\, casual 5–10-minute Gallery Chats offered at 11 am and 3 pm. \nLed by the Visitor Experience Team\, these conversations are a great way to get an in-depth view of the art and further familiarize yourself with our exciting permanent collection and exhibitions. If you’re a first-time guest or long-time art enthusiast stopping in\, we invite you to join us and discover something new! \nOur Gallery Chats are free with admission and open to all visitors. Subject to change based on staff availability. \n 
URL:https://tampamuseum.org/event/gallery-chats/2027-07-27/
LOCATION:Tampa Museum of Art\, 120 W Gasparilla Plaza\, Tampa\, FL\, 33602\, United States
CATEGORIES:Gallery Activities & Tours
ATTACH;FMTTYPE=image/jpeg:https://tampamuseum.org/wp-content/uploads/2026/04/Gallery-Talks-2026-1.jpg
GEO:27.9495219;-82.4626673
X-APPLE-STRUCTURED-LOCATION;VALUE=URI;X-ADDRESS=Tampa Museum of Art 120 W Gasparilla Plaza Tampa FL 33602 United States;X-APPLE-RADIUS=500;X-TITLE=120 W Gasparilla Plaza:geo:-82.4626673,27.9495219
END:VEVENT
BEGIN:VEVENT
DTSTART;TZID=America/New_York:20270727T150000
DTEND;TZID=America/New_York:20270727T151000
DTSTAMP:20260425T235709
CREATED:20260424T192544Z
LAST-MODIFIED:20260424T192544Z
UID:10009024-1816700400-1816701000@tampamuseum.org
SUMMARY:Gallery Chats
DESCRIPTION:Join the Visitor Experience Team for brief\, casual 5–10-minute Gallery Chats offered at 11 am and 3 pm. \nLed by the Visitor Experience Team\, these conversations are a great way to get an in-depth view of the art and further familiarize yourself with our exciting permanent collection and exhibitions. If you’re a first-time guest or long-time art enthusiast stopping in\, we invite you to join us and discover something new! \nOur Gallery Chats are free with admission and open to all visitors. Subject to change based on staff availability.
URL:https://tampamuseum.org/event/gallery-chats-2/2027-07-27/
LOCATION:Tampa Museum of Art\, 120 W Gasparilla Plaza\, Tampa\, FL\, 33602\, United States
CATEGORIES:Adults,Children & Family,Educators,Gallery Activities & Tours,Lectures & Talks
ATTACH;FMTTYPE=image/jpeg:https://tampamuseum.org/wp-content/uploads/2026/04/Gallery-Talks-2026-1.jpg
GEO:27.9495219;-82.4626673
X-APPLE-STRUCTURED-LOCATION;VALUE=URI;X-ADDRESS=Tampa Museum of Art 120 W Gasparilla Plaza Tampa FL 33602 United States;X-APPLE-RADIUS=500;X-TITLE=120 W Gasparilla Plaza:geo:-82.4626673,27.9495219
END:VEVENT
BEGIN:VEVENT
DTSTART;TZID=America/New_York:20270728T110000
DTEND;TZID=America/New_York:20270728T111000
DTSTAMP:20260425T235710
CREATED:20260423T164728Z
LAST-MODIFIED:20260423T164728Z
UID:10007192-1816772400-1816773000@tampamuseum.org
SUMMARY:Gallery Chats
DESCRIPTION:Join the Visitor Experience Team for brief\, casual 5–10-minute Gallery Chats offered at 11 am and 3 pm. \nLed by the Visitor Experience Team\, these conversations are a great way to get an in-depth view of the art and further familiarize yourself with our exciting permanent collection and exhibitions. If you’re a first-time guest or long-time art enthusiast stopping in\, we invite you to join us and discover something new! \nOur Gallery Chats are free with admission and open to all visitors. Subject to change based on staff availability. \n 
URL:https://tampamuseum.org/event/gallery-chats/2027-07-28/
LOCATION:Tampa Museum of Art\, 120 W Gasparilla Plaza\, Tampa\, FL\, 33602\, United States
CATEGORIES:Gallery Activities & Tours
ATTACH;FMTTYPE=image/jpeg:https://tampamuseum.org/wp-content/uploads/2026/04/Gallery-Talks-2026-1.jpg
GEO:27.9495219;-82.4626673
X-APPLE-STRUCTURED-LOCATION;VALUE=URI;X-ADDRESS=Tampa Museum of Art 120 W Gasparilla Plaza Tampa FL 33602 United States;X-APPLE-RADIUS=500;X-TITLE=120 W Gasparilla Plaza:geo:-82.4626673,27.9495219
END:VEVENT
BEGIN:VEVENT
DTSTART;TZID=America/New_York:20270728T150000
DTEND;TZID=America/New_York:20270728T151000
DTSTAMP:20260425T235710
CREATED:20260424T192544Z
LAST-MODIFIED:20260424T192544Z
UID:10009025-1816786800-1816787400@tampamuseum.org
SUMMARY:Gallery Chats
DESCRIPTION:Join the Visitor Experience Team for brief\, casual 5–10-minute Gallery Chats offered at 11 am and 3 pm. \nLed by the Visitor Experience Team\, these conversations are a great way to get an in-depth view of the art and further familiarize yourself with our exciting permanent collection and exhibitions. If you’re a first-time guest or long-time art enthusiast stopping in\, we invite you to join us and discover something new! \nOur Gallery Chats are free with admission and open to all visitors. Subject to change based on staff availability.
URL:https://tampamuseum.org/event/gallery-chats-2/2027-07-28/
LOCATION:Tampa Museum of Art\, 120 W Gasparilla Plaza\, Tampa\, FL\, 33602\, United States
CATEGORIES:Adults,Children & Family,Educators,Gallery Activities & Tours,Lectures & Talks
ATTACH;FMTTYPE=image/jpeg:https://tampamuseum.org/wp-content/uploads/2026/04/Gallery-Talks-2026-1.jpg
GEO:27.9495219;-82.4626673
X-APPLE-STRUCTURED-LOCATION;VALUE=URI;X-ADDRESS=Tampa Museum of Art 120 W Gasparilla Plaza Tampa FL 33602 United States;X-APPLE-RADIUS=500;X-TITLE=120 W Gasparilla Plaza:geo:-82.4626673,27.9495219
END:VEVENT
BEGIN:VEVENT
DTSTART;TZID=America/New_York:20270729T110000
DTEND;TZID=America/New_York:20270729T111000
DTSTAMP:20260425T235710
CREATED:20260423T164728Z
LAST-MODIFIED:20260423T164728Z
UID:10007193-1816858800-1816859400@tampamuseum.org
SUMMARY:Gallery Chats
DESCRIPTION:Join the Visitor Experience Team for brief\, casual 5–10-minute Gallery Chats offered at 11 am and 3 pm. \nLed by the Visitor Experience Team\, these conversations are a great way to get an in-depth view of the art and further familiarize yourself with our exciting permanent collection and exhibitions. If you’re a first-time guest or long-time art enthusiast stopping in\, we invite you to join us and discover something new! \nOur Gallery Chats are free with admission and open to all visitors. Subject to change based on staff availability. \n 
URL:https://tampamuseum.org/event/gallery-chats/2027-07-29/
LOCATION:Tampa Museum of Art\, 120 W Gasparilla Plaza\, Tampa\, FL\, 33602\, United States
CATEGORIES:Gallery Activities & Tours
ATTACH;FMTTYPE=image/jpeg:https://tampamuseum.org/wp-content/uploads/2026/04/Gallery-Talks-2026-1.jpg
GEO:27.9495219;-82.4626673
X-APPLE-STRUCTURED-LOCATION;VALUE=URI;X-ADDRESS=Tampa Museum of Art 120 W Gasparilla Plaza Tampa FL 33602 United States;X-APPLE-RADIUS=500;X-TITLE=120 W Gasparilla Plaza:geo:-82.4626673,27.9495219
END:VEVENT
BEGIN:VEVENT
DTSTART;TZID=America/New_York:20270729T150000
DTEND;TZID=America/New_York:20270729T151000
DTSTAMP:20260425T235710
CREATED:20260424T192544Z
LAST-MODIFIED:20260424T192544Z
UID:10009026-1816873200-1816873800@tampamuseum.org
SUMMARY:Gallery Chats
DESCRIPTION:Join the Visitor Experience Team for brief\, casual 5–10-minute Gallery Chats offered at 11 am and 3 pm. \nLed by the Visitor Experience Team\, these conversations are a great way to get an in-depth view of the art and further familiarize yourself with our exciting permanent collection and exhibitions. If you’re a first-time guest or long-time art enthusiast stopping in\, we invite you to join us and discover something new! \nOur Gallery Chats are free with admission and open to all visitors. Subject to change based on staff availability.
URL:https://tampamuseum.org/event/gallery-chats-2/2027-07-29/
LOCATION:Tampa Museum of Art\, 120 W Gasparilla Plaza\, Tampa\, FL\, 33602\, United States
CATEGORIES:Adults,Children & Family,Educators,Gallery Activities & Tours,Lectures & Talks
ATTACH;FMTTYPE=image/jpeg:https://tampamuseum.org/wp-content/uploads/2026/04/Gallery-Talks-2026-1.jpg
GEO:27.9495219;-82.4626673
X-APPLE-STRUCTURED-LOCATION;VALUE=URI;X-ADDRESS=Tampa Museum of Art 120 W Gasparilla Plaza Tampa FL 33602 United States;X-APPLE-RADIUS=500;X-TITLE=120 W Gasparilla Plaza:geo:-82.4626673,27.9495219
END:VEVENT
BEGIN:VEVENT
DTSTART;TZID=America/New_York:20270729T160000
DTEND;TZID=America/New_York:20270729T200000
DTSTAMP:20260425T235710
CREATED:20200707T225845Z
LAST-MODIFIED:20250812T151426Z
UID:10003910-1816876800-1816891200@tampamuseum.org
SUMMARY:Art on the House
DESCRIPTION:Every Thursday from 4 to 8 pm\, the Tampa Museum of Art offers Art on the House where admission prices change to pay-as-you-will\, and visitors choose whatever admission price they want to pay. Bring the family and celebrate 100 years of art in Tampa with exhibitions that emphasize ancient\, modern\, and contemporary art. \nBeginning at 4 pm every Thursday\, walk up to the Welcome Desk and tell the Visitor Experience and Engagement Representatives the admission price you chose to pay for your visit to the museum. Any donation amount is welcome.
URL:https://tampamuseum.org/event/art-on-the-house/2027-07-29/
LOCATION:Tampa Museum of Art\, 120 W Gasparilla Plaza\, Tampa\, FL\, 33602\, United States
ATTACH;FMTTYPE=image/jpeg:https://tampamuseum.org/wp-content/uploads/2020/07/Art-on-the-House-2022-1.jpg
GEO:27.9495219;-82.4626673
X-APPLE-STRUCTURED-LOCATION;VALUE=URI;X-ADDRESS=Tampa Museum of Art 120 W Gasparilla Plaza Tampa FL 33602 United States;X-APPLE-RADIUS=500;X-TITLE=120 W Gasparilla Plaza:geo:-82.4626673,27.9495219
END:VEVENT
BEGIN:VEVENT
DTSTART;TZID=America/New_York:20270730T110000
DTEND;TZID=America/New_York:20270730T111000
DTSTAMP:20260425T235710
CREATED:20260423T164728Z
LAST-MODIFIED:20260423T164728Z
UID:10007194-1816945200-1816945800@tampamuseum.org
SUMMARY:Gallery Chats
DESCRIPTION:Join the Visitor Experience Team for brief\, casual 5–10-minute Gallery Chats offered at 11 am and 3 pm. \nLed by the Visitor Experience Team\, these conversations are a great way to get an in-depth view of the art and further familiarize yourself with our exciting permanent collection and exhibitions. If you’re a first-time guest or long-time art enthusiast stopping in\, we invite you to join us and discover something new! \nOur Gallery Chats are free with admission and open to all visitors. Subject to change based on staff availability. \n 
URL:https://tampamuseum.org/event/gallery-chats/2027-07-30/
LOCATION:Tampa Museum of Art\, 120 W Gasparilla Plaza\, Tampa\, FL\, 33602\, United States
CATEGORIES:Gallery Activities & Tours
ATTACH;FMTTYPE=image/jpeg:https://tampamuseum.org/wp-content/uploads/2026/04/Gallery-Talks-2026-1.jpg
GEO:27.9495219;-82.4626673
X-APPLE-STRUCTURED-LOCATION;VALUE=URI;X-ADDRESS=Tampa Museum of Art 120 W Gasparilla Plaza Tampa FL 33602 United States;X-APPLE-RADIUS=500;X-TITLE=120 W Gasparilla Plaza:geo:-82.4626673,27.9495219
END:VEVENT
BEGIN:VEVENT
DTSTART;TZID=America/New_York:20270730T150000
DTEND;TZID=America/New_York:20270730T151000
DTSTAMP:20260425T235710
CREATED:20260424T192544Z
LAST-MODIFIED:20260424T192544Z
UID:10009027-1816959600-1816960200@tampamuseum.org
SUMMARY:Gallery Chats
DESCRIPTION:Join the Visitor Experience Team for brief\, casual 5–10-minute Gallery Chats offered at 11 am and 3 pm. \nLed by the Visitor Experience Team\, these conversations are a great way to get an in-depth view of the art and further familiarize yourself with our exciting permanent collection and exhibitions. If you’re a first-time guest or long-time art enthusiast stopping in\, we invite you to join us and discover something new! \nOur Gallery Chats are free with admission and open to all visitors. Subject to change based on staff availability.
URL:https://tampamuseum.org/event/gallery-chats-2/2027-07-30/
LOCATION:Tampa Museum of Art\, 120 W Gasparilla Plaza\, Tampa\, FL\, 33602\, United States
CATEGORIES:Adults,Children & Family,Educators,Gallery Activities & Tours,Lectures & Talks
ATTACH;FMTTYPE=image/jpeg:https://tampamuseum.org/wp-content/uploads/2026/04/Gallery-Talks-2026-1.jpg
GEO:27.9495219;-82.4626673
X-APPLE-STRUCTURED-LOCATION;VALUE=URI;X-ADDRESS=Tampa Museum of Art 120 W Gasparilla Plaza Tampa FL 33602 United States;X-APPLE-RADIUS=500;X-TITLE=120 W Gasparilla Plaza:geo:-82.4626673,27.9495219
END:VEVENT
BEGIN:VEVENT
DTSTART;TZID=America/New_York:20270731T110000
DTEND;TZID=America/New_York:20270731T111000
DTSTAMP:20260425T235710
CREATED:20260423T164728Z
LAST-MODIFIED:20260423T164728Z
UID:10007195-1817031600-1817032200@tampamuseum.org
SUMMARY:Gallery Chats
DESCRIPTION:Join the Visitor Experience Team for brief\, casual 5–10-minute Gallery Chats offered at 11 am and 3 pm. \nLed by the Visitor Experience Team\, these conversations are a great way to get an in-depth view of the art and further familiarize yourself with our exciting permanent collection and exhibitions. If you’re a first-time guest or long-time art enthusiast stopping in\, we invite you to join us and discover something new! \nOur Gallery Chats are free with admission and open to all visitors. Subject to change based on staff availability. \n 
URL:https://tampamuseum.org/event/gallery-chats/2027-07-31/
LOCATION:Tampa Museum of Art\, 120 W Gasparilla Plaza\, Tampa\, FL\, 33602\, United States
CATEGORIES:Gallery Activities & Tours
ATTACH;FMTTYPE=image/jpeg:https://tampamuseum.org/wp-content/uploads/2026/04/Gallery-Talks-2026-1.jpg
GEO:27.9495219;-82.4626673
X-APPLE-STRUCTURED-LOCATION;VALUE=URI;X-ADDRESS=Tampa Museum of Art 120 W Gasparilla Plaza Tampa FL 33602 United States;X-APPLE-RADIUS=500;X-TITLE=120 W Gasparilla Plaza:geo:-82.4626673,27.9495219
END:VEVENT
BEGIN:VEVENT
DTSTART;TZID=America/New_York:20270731T150000
DTEND;TZID=America/New_York:20270731T151000
DTSTAMP:20260425T235710
CREATED:20260424T192544Z
LAST-MODIFIED:20260424T192544Z
UID:10009028-1817046000-1817046600@tampamuseum.org
SUMMARY:Gallery Chats
DESCRIPTION:Join the Visitor Experience Team for brief\, casual 5–10-minute Gallery Chats offered at 11 am and 3 pm. \nLed by the Visitor Experience Team\, these conversations are a great way to get an in-depth view of the art and further familiarize yourself with our exciting permanent collection and exhibitions. If you’re a first-time guest or long-time art enthusiast stopping in\, we invite you to join us and discover something new! \nOur Gallery Chats are free with admission and open to all visitors. Subject to change based on staff availability.
URL:https://tampamuseum.org/event/gallery-chats-2/2027-07-31/
LOCATION:Tampa Museum of Art\, 120 W Gasparilla Plaza\, Tampa\, FL\, 33602\, United States
CATEGORIES:Adults,Children & Family,Educators,Gallery Activities & Tours,Lectures & Talks
ATTACH;FMTTYPE=image/jpeg:https://tampamuseum.org/wp-content/uploads/2026/04/Gallery-Talks-2026-1.jpg
GEO:27.9495219;-82.4626673
X-APPLE-STRUCTURED-LOCATION;VALUE=URI;X-ADDRESS=Tampa Museum of Art 120 W Gasparilla Plaza Tampa FL 33602 United States;X-APPLE-RADIUS=500;X-TITLE=120 W Gasparilla Plaza:geo:-82.4626673,27.9495219
END:VEVENT
END:VCALENDAR