BEGIN:VCALENDAR
VERSION:2.0
PRODID:-//Tampa Museum of Art - ECPv6.15.20//NONSGML v1.0//EN
CALSCALE:GREGORIAN
METHOD:PUBLISH
X-WR-CALNAME:Tampa Museum of Art
X-ORIGINAL-URL:https://tampamuseum.org
X-WR-CALDESC:Events for Tampa Museum of Art
REFRESH-INTERVAL;VALUE=DURATION:PT1H
X-Robots-Tag:noindex
X-PUBLISHED-TTL:PT1H
BEGIN:VTIMEZONE
TZID:America/New_York
BEGIN:DAYLIGHT
TZOFFSETFROM:-0500
TZOFFSETTO:-0400
TZNAME:EDT
DTSTART:20250309T070000
END:DAYLIGHT
BEGIN:STANDARD
TZOFFSETFROM:-0400
TZOFFSETTO:-0500
TZNAME:EST
DTSTART:20251102T060000
END:STANDARD
BEGIN:DAYLIGHT
TZOFFSETFROM:-0500
TZOFFSETTO:-0400
TZNAME:EDT
DTSTART:20260308T070000
END:DAYLIGHT
BEGIN:STANDARD
TZOFFSETFROM:-0400
TZOFFSETTO:-0500
TZNAME:EST
DTSTART:20261101T060000
END:STANDARD
BEGIN:DAYLIGHT
TZOFFSETFROM:-0500
TZOFFSETTO:-0400
TZNAME:EDT
DTSTART:20270314T070000
END:DAYLIGHT
BEGIN:STANDARD
TZOFFSETFROM:-0400
TZOFFSETTO:-0500
TZNAME:EST
DTSTART:20271107T060000
END:STANDARD
END:VTIMEZONE
BEGIN:VEVENT
DTSTART;TZID=America/New_York:20261122T110000
DTEND;TZID=America/New_York:20261122T111000
DTSTAMP:20260425T105146
CREATED:20260423T164728Z
LAST-MODIFIED:20260423T164728Z
UID:10006944-1795345200-1795345800@tampamuseum.org
SUMMARY:Gallery Chats
DESCRIPTION:Join the Visitor Experience Team for brief\, casual 5–10-minute Gallery Chats offered at 11 am and 3 pm. \nLed by the Visitor Experience Team\, these conversations are a great way to get an in-depth view of the art and further familiarize yourself with our exciting permanent collection and exhibitions. If you’re a first-time guest or long-time art enthusiast stopping in\, we invite you to join us and discover something new! \nOur Gallery Chats are free with admission and open to all visitors. Subject to change based on staff availability. \n 
URL:https://tampamuseum.org/event/gallery-chats/2026-11-22/
LOCATION:Tampa Museum of Art\, 120 W Gasparilla Plaza\, Tampa\, FL\, 33602\, United States
CATEGORIES:Gallery Activities & Tours
ATTACH;FMTTYPE=image/jpeg:https://tampamuseum.org/wp-content/uploads/2026/04/Gallery-Talks-2026-1.jpg
GEO:27.9495219;-82.4626673
X-APPLE-STRUCTURED-LOCATION;VALUE=URI;X-ADDRESS=Tampa Museum of Art 120 W Gasparilla Plaza Tampa FL 33602 United States;X-APPLE-RADIUS=500;X-TITLE=120 W Gasparilla Plaza:geo:-82.4626673,27.9495219
END:VEVENT
BEGIN:VEVENT
DTSTART;TZID=America/New_York:20261122T150000
DTEND;TZID=America/New_York:20261122T151000
DTSTAMP:20260425T105146
CREATED:20260424T192544Z
LAST-MODIFIED:20260424T192544Z
UID:10008777-1795359600-1795360200@tampamuseum.org
SUMMARY:Gallery Chats
DESCRIPTION:Join the Visitor Experience Team for brief\, casual 5–10-minute Gallery Chats offered at 11 am and 3 pm. \nLed by the Visitor Experience Team\, these conversations are a great way to get an in-depth view of the art and further familiarize yourself with our exciting permanent collection and exhibitions. If you’re a first-time guest or long-time art enthusiast stopping in\, we invite you to join us and discover something new! \nOur Gallery Chats are free with admission and open to all visitors. Subject to change based on staff availability.
URL:https://tampamuseum.org/event/gallery-chats-2/2026-11-22/
LOCATION:Tampa Museum of Art\, 120 W Gasparilla Plaza\, Tampa\, FL\, 33602\, United States
CATEGORIES:Adults,Children & Family,Educators,Gallery Activities & Tours,Lectures & Talks
ATTACH;FMTTYPE=image/jpeg:https://tampamuseum.org/wp-content/uploads/2026/04/Gallery-Talks-2026-1.jpg
GEO:27.9495219;-82.4626673
X-APPLE-STRUCTURED-LOCATION;VALUE=URI;X-ADDRESS=Tampa Museum of Art 120 W Gasparilla Plaza Tampa FL 33602 United States;X-APPLE-RADIUS=500;X-TITLE=120 W Gasparilla Plaza:geo:-82.4626673,27.9495219
END:VEVENT
BEGIN:VEVENT
DTSTART;TZID=America/New_York:20261123T110000
DTEND;TZID=America/New_York:20261123T111000
DTSTAMP:20260425T105146
CREATED:20260423T164728Z
LAST-MODIFIED:20260423T164728Z
UID:10006945-1795431600-1795432200@tampamuseum.org
SUMMARY:Gallery Chats
DESCRIPTION:Join the Visitor Experience Team for brief\, casual 5–10-minute Gallery Chats offered at 11 am and 3 pm. \nLed by the Visitor Experience Team\, these conversations are a great way to get an in-depth view of the art and further familiarize yourself with our exciting permanent collection and exhibitions. If you’re a first-time guest or long-time art enthusiast stopping in\, we invite you to join us and discover something new! \nOur Gallery Chats are free with admission and open to all visitors. Subject to change based on staff availability. \n 
URL:https://tampamuseum.org/event/gallery-chats/2026-11-23/
LOCATION:Tampa Museum of Art\, 120 W Gasparilla Plaza\, Tampa\, FL\, 33602\, United States
CATEGORIES:Gallery Activities & Tours
ATTACH;FMTTYPE=image/jpeg:https://tampamuseum.org/wp-content/uploads/2026/04/Gallery-Talks-2026-1.jpg
GEO:27.9495219;-82.4626673
X-APPLE-STRUCTURED-LOCATION;VALUE=URI;X-ADDRESS=Tampa Museum of Art 120 W Gasparilla Plaza Tampa FL 33602 United States;X-APPLE-RADIUS=500;X-TITLE=120 W Gasparilla Plaza:geo:-82.4626673,27.9495219
END:VEVENT
BEGIN:VEVENT
DTSTART;TZID=America/New_York:20261123T150000
DTEND;TZID=America/New_York:20261123T151000
DTSTAMP:20260425T105146
CREATED:20260424T192544Z
LAST-MODIFIED:20260424T192544Z
UID:10008778-1795446000-1795446600@tampamuseum.org
SUMMARY:Gallery Chats
DESCRIPTION:Join the Visitor Experience Team for brief\, casual 5–10-minute Gallery Chats offered at 11 am and 3 pm. \nLed by the Visitor Experience Team\, these conversations are a great way to get an in-depth view of the art and further familiarize yourself with our exciting permanent collection and exhibitions. If you’re a first-time guest or long-time art enthusiast stopping in\, we invite you to join us and discover something new! \nOur Gallery Chats are free with admission and open to all visitors. Subject to change based on staff availability.
URL:https://tampamuseum.org/event/gallery-chats-2/2026-11-23/
LOCATION:Tampa Museum of Art\, 120 W Gasparilla Plaza\, Tampa\, FL\, 33602\, United States
CATEGORIES:Adults,Children & Family,Educators,Gallery Activities & Tours,Lectures & Talks
ATTACH;FMTTYPE=image/jpeg:https://tampamuseum.org/wp-content/uploads/2026/04/Gallery-Talks-2026-1.jpg
GEO:27.9495219;-82.4626673
X-APPLE-STRUCTURED-LOCATION;VALUE=URI;X-ADDRESS=Tampa Museum of Art 120 W Gasparilla Plaza Tampa FL 33602 United States;X-APPLE-RADIUS=500;X-TITLE=120 W Gasparilla Plaza:geo:-82.4626673,27.9495219
END:VEVENT
BEGIN:VEVENT
DTSTART;TZID=America/New_York:20261124T110000
DTEND;TZID=America/New_York:20261124T111000
DTSTAMP:20260425T105146
CREATED:20260423T164728Z
LAST-MODIFIED:20260423T164728Z
UID:10006946-1795518000-1795518600@tampamuseum.org
SUMMARY:Gallery Chats
DESCRIPTION:Join the Visitor Experience Team for brief\, casual 5–10-minute Gallery Chats offered at 11 am and 3 pm. \nLed by the Visitor Experience Team\, these conversations are a great way to get an in-depth view of the art and further familiarize yourself with our exciting permanent collection and exhibitions. If you’re a first-time guest or long-time art enthusiast stopping in\, we invite you to join us and discover something new! \nOur Gallery Chats are free with admission and open to all visitors. Subject to change based on staff availability. \n 
URL:https://tampamuseum.org/event/gallery-chats/2026-11-24/
LOCATION:Tampa Museum of Art\, 120 W Gasparilla Plaza\, Tampa\, FL\, 33602\, United States
CATEGORIES:Gallery Activities & Tours
ATTACH;FMTTYPE=image/jpeg:https://tampamuseum.org/wp-content/uploads/2026/04/Gallery-Talks-2026-1.jpg
GEO:27.9495219;-82.4626673
X-APPLE-STRUCTURED-LOCATION;VALUE=URI;X-ADDRESS=Tampa Museum of Art 120 W Gasparilla Plaza Tampa FL 33602 United States;X-APPLE-RADIUS=500;X-TITLE=120 W Gasparilla Plaza:geo:-82.4626673,27.9495219
END:VEVENT
BEGIN:VEVENT
DTSTART;TZID=America/New_York:20261124T150000
DTEND;TZID=America/New_York:20261124T151000
DTSTAMP:20260425T105146
CREATED:20260424T192544Z
LAST-MODIFIED:20260424T192544Z
UID:10008779-1795532400-1795533000@tampamuseum.org
SUMMARY:Gallery Chats
DESCRIPTION:Join the Visitor Experience Team for brief\, casual 5–10-minute Gallery Chats offered at 11 am and 3 pm. \nLed by the Visitor Experience Team\, these conversations are a great way to get an in-depth view of the art and further familiarize yourself with our exciting permanent collection and exhibitions. If you’re a first-time guest or long-time art enthusiast stopping in\, we invite you to join us and discover something new! \nOur Gallery Chats are free with admission and open to all visitors. Subject to change based on staff availability.
URL:https://tampamuseum.org/event/gallery-chats-2/2026-11-24/
LOCATION:Tampa Museum of Art\, 120 W Gasparilla Plaza\, Tampa\, FL\, 33602\, United States
CATEGORIES:Adults,Children & Family,Educators,Gallery Activities & Tours,Lectures & Talks
ATTACH;FMTTYPE=image/jpeg:https://tampamuseum.org/wp-content/uploads/2026/04/Gallery-Talks-2026-1.jpg
GEO:27.9495219;-82.4626673
X-APPLE-STRUCTURED-LOCATION;VALUE=URI;X-ADDRESS=Tampa Museum of Art 120 W Gasparilla Plaza Tampa FL 33602 United States;X-APPLE-RADIUS=500;X-TITLE=120 W Gasparilla Plaza:geo:-82.4626673,27.9495219
END:VEVENT
BEGIN:VEVENT
DTSTART;TZID=America/New_York:20261125T110000
DTEND;TZID=America/New_York:20261125T111000
DTSTAMP:20260425T105146
CREATED:20260423T164728Z
LAST-MODIFIED:20260423T164728Z
UID:10006947-1795604400-1795605000@tampamuseum.org
SUMMARY:Gallery Chats
DESCRIPTION:Join the Visitor Experience Team for brief\, casual 5–10-minute Gallery Chats offered at 11 am and 3 pm. \nLed by the Visitor Experience Team\, these conversations are a great way to get an in-depth view of the art and further familiarize yourself with our exciting permanent collection and exhibitions. If you’re a first-time guest or long-time art enthusiast stopping in\, we invite you to join us and discover something new! \nOur Gallery Chats are free with admission and open to all visitors. Subject to change based on staff availability. \n 
URL:https://tampamuseum.org/event/gallery-chats/2026-11-25/
LOCATION:Tampa Museum of Art\, 120 W Gasparilla Plaza\, Tampa\, FL\, 33602\, United States
CATEGORIES:Gallery Activities & Tours
ATTACH;FMTTYPE=image/jpeg:https://tampamuseum.org/wp-content/uploads/2026/04/Gallery-Talks-2026-1.jpg
GEO:27.9495219;-82.4626673
X-APPLE-STRUCTURED-LOCATION;VALUE=URI;X-ADDRESS=Tampa Museum of Art 120 W Gasparilla Plaza Tampa FL 33602 United States;X-APPLE-RADIUS=500;X-TITLE=120 W Gasparilla Plaza:geo:-82.4626673,27.9495219
END:VEVENT
BEGIN:VEVENT
DTSTART;TZID=America/New_York:20261125T150000
DTEND;TZID=America/New_York:20261125T151000
DTSTAMP:20260425T105146
CREATED:20260424T192544Z
LAST-MODIFIED:20260424T192544Z
UID:10008780-1795618800-1795619400@tampamuseum.org
SUMMARY:Gallery Chats
DESCRIPTION:Join the Visitor Experience Team for brief\, casual 5–10-minute Gallery Chats offered at 11 am and 3 pm. \nLed by the Visitor Experience Team\, these conversations are a great way to get an in-depth view of the art and further familiarize yourself with our exciting permanent collection and exhibitions. If you’re a first-time guest or long-time art enthusiast stopping in\, we invite you to join us and discover something new! \nOur Gallery Chats are free with admission and open to all visitors. Subject to change based on staff availability.
URL:https://tampamuseum.org/event/gallery-chats-2/2026-11-25/
LOCATION:Tampa Museum of Art\, 120 W Gasparilla Plaza\, Tampa\, FL\, 33602\, United States
CATEGORIES:Adults,Children & Family,Educators,Gallery Activities & Tours,Lectures & Talks
ATTACH;FMTTYPE=image/jpeg:https://tampamuseum.org/wp-content/uploads/2026/04/Gallery-Talks-2026-1.jpg
GEO:27.9495219;-82.4626673
X-APPLE-STRUCTURED-LOCATION;VALUE=URI;X-ADDRESS=Tampa Museum of Art 120 W Gasparilla Plaza Tampa FL 33602 United States;X-APPLE-RADIUS=500;X-TITLE=120 W Gasparilla Plaza:geo:-82.4626673,27.9495219
END:VEVENT
BEGIN:VEVENT
DTSTART;VALUE=DATE:20261126
DTEND;VALUE=DATE:20261127
DTSTAMP:20260425T105146
CREATED:20231120T215015Z
LAST-MODIFIED:20231120T215017Z
UID:10003982-1795651200-1795737599@tampamuseum.org
SUMMARY:Museum Closed for Thanksgiving
DESCRIPTION:The Tampa Museum of Art will be closed for Thanksgiving. \nEnjoy a happy Thanksgiving with your family and loved ones! \nWe will resume regular museum hours the following day. Plan your visit to the Tampa Museum of Art.
URL:https://tampamuseum.org/event/museum-closed-for-thanksgiving/2026-11-26/
LOCATION:Tampa Museum of Art\, 120 W Gasparilla Plaza\, Tampa\, FL\, 33602\, United States
CATEGORIES:Museum Closure
GEO:27.9495219;-82.4626673
X-APPLE-STRUCTURED-LOCATION;VALUE=URI;X-ADDRESS=Tampa Museum of Art 120 W Gasparilla Plaza Tampa FL 33602 United States;X-APPLE-RADIUS=500;X-TITLE=120 W Gasparilla Plaza:geo:-82.4626673,27.9495219
END:VEVENT
BEGIN:VEVENT
DTSTART;TZID=America/New_York:20261126T150000
DTEND;TZID=America/New_York:20261126T151000
DTSTAMP:20260425T105146
CREATED:20260424T192544Z
LAST-MODIFIED:20260424T192544Z
UID:10008781-1795705200-1795705800@tampamuseum.org
SUMMARY:Gallery Chats
DESCRIPTION:Join the Visitor Experience Team for brief\, casual 5–10-minute Gallery Chats offered at 11 am and 3 pm. \nLed by the Visitor Experience Team\, these conversations are a great way to get an in-depth view of the art and further familiarize yourself with our exciting permanent collection and exhibitions. If you’re a first-time guest or long-time art enthusiast stopping in\, we invite you to join us and discover something new! \nOur Gallery Chats are free with admission and open to all visitors. Subject to change based on staff availability.
URL:https://tampamuseum.org/event/gallery-chats-2/2026-11-26/
LOCATION:Tampa Museum of Art\, 120 W Gasparilla Plaza\, Tampa\, FL\, 33602\, United States
CATEGORIES:Adults,Children & Family,Educators,Gallery Activities & Tours,Lectures & Talks
ATTACH;FMTTYPE=image/jpeg:https://tampamuseum.org/wp-content/uploads/2026/04/Gallery-Talks-2026-1.jpg
GEO:27.9495219;-82.4626673
X-APPLE-STRUCTURED-LOCATION;VALUE=URI;X-ADDRESS=Tampa Museum of Art 120 W Gasparilla Plaza Tampa FL 33602 United States;X-APPLE-RADIUS=500;X-TITLE=120 W Gasparilla Plaza:geo:-82.4626673,27.9495219
END:VEVENT
BEGIN:VEVENT
DTSTART;TZID=America/New_York:20261126T160000
DTEND;TZID=America/New_York:20261126T200000
DTSTAMP:20260425T105146
CREATED:20200707T225845Z
LAST-MODIFIED:20250812T151426Z
UID:10003875-1795708800-1795723200@tampamuseum.org
SUMMARY:Art on the House
DESCRIPTION:Every Thursday from 4 to 8 pm\, the Tampa Museum of Art offers Art on the House where admission prices change to pay-as-you-will\, and visitors choose whatever admission price they want to pay. Bring the family and celebrate 100 years of art in Tampa with exhibitions that emphasize ancient\, modern\, and contemporary art. \nBeginning at 4 pm every Thursday\, walk up to the Welcome Desk and tell the Visitor Experience and Engagement Representatives the admission price you chose to pay for your visit to the museum. Any donation amount is welcome.
URL:https://tampamuseum.org/event/art-on-the-house/2026-11-26/
LOCATION:Tampa Museum of Art\, 120 W Gasparilla Plaza\, Tampa\, FL\, 33602\, United States
ATTACH;FMTTYPE=image/jpeg:https://tampamuseum.org/wp-content/uploads/2020/07/Art-on-the-House-2022-1.jpg
GEO:27.9495219;-82.4626673
X-APPLE-STRUCTURED-LOCATION;VALUE=URI;X-ADDRESS=Tampa Museum of Art 120 W Gasparilla Plaza Tampa FL 33602 United States;X-APPLE-RADIUS=500;X-TITLE=120 W Gasparilla Plaza:geo:-82.4626673,27.9495219
END:VEVENT
BEGIN:VEVENT
DTSTART;TZID=America/New_York:20261127T110000
DTEND;TZID=America/New_York:20261127T111000
DTSTAMP:20260425T105146
CREATED:20260423T164728Z
LAST-MODIFIED:20260423T164728Z
UID:10006949-1795777200-1795777800@tampamuseum.org
SUMMARY:Gallery Chats
DESCRIPTION:Join the Visitor Experience Team for brief\, casual 5–10-minute Gallery Chats offered at 11 am and 3 pm. \nLed by the Visitor Experience Team\, these conversations are a great way to get an in-depth view of the art and further familiarize yourself with our exciting permanent collection and exhibitions. If you’re a first-time guest or long-time art enthusiast stopping in\, we invite you to join us and discover something new! \nOur Gallery Chats are free with admission and open to all visitors. Subject to change based on staff availability. \n 
URL:https://tampamuseum.org/event/gallery-chats/2026-11-27/
LOCATION:Tampa Museum of Art\, 120 W Gasparilla Plaza\, Tampa\, FL\, 33602\, United States
CATEGORIES:Gallery Activities & Tours
ATTACH;FMTTYPE=image/jpeg:https://tampamuseum.org/wp-content/uploads/2026/04/Gallery-Talks-2026-1.jpg
GEO:27.9495219;-82.4626673
X-APPLE-STRUCTURED-LOCATION;VALUE=URI;X-ADDRESS=Tampa Museum of Art 120 W Gasparilla Plaza Tampa FL 33602 United States;X-APPLE-RADIUS=500;X-TITLE=120 W Gasparilla Plaza:geo:-82.4626673,27.9495219
END:VEVENT
BEGIN:VEVENT
DTSTART;TZID=America/New_York:20261127T150000
DTEND;TZID=America/New_York:20261127T151000
DTSTAMP:20260425T105146
CREATED:20260424T192544Z
LAST-MODIFIED:20260424T192544Z
UID:10008782-1795791600-1795792200@tampamuseum.org
SUMMARY:Gallery Chats
DESCRIPTION:Join the Visitor Experience Team for brief\, casual 5–10-minute Gallery Chats offered at 11 am and 3 pm. \nLed by the Visitor Experience Team\, these conversations are a great way to get an in-depth view of the art and further familiarize yourself with our exciting permanent collection and exhibitions. If you’re a first-time guest or long-time art enthusiast stopping in\, we invite you to join us and discover something new! \nOur Gallery Chats are free with admission and open to all visitors. Subject to change based on staff availability.
URL:https://tampamuseum.org/event/gallery-chats-2/2026-11-27/
LOCATION:Tampa Museum of Art\, 120 W Gasparilla Plaza\, Tampa\, FL\, 33602\, United States
CATEGORIES:Adults,Children & Family,Educators,Gallery Activities & Tours,Lectures & Talks
ATTACH;FMTTYPE=image/jpeg:https://tampamuseum.org/wp-content/uploads/2026/04/Gallery-Talks-2026-1.jpg
GEO:27.9495219;-82.4626673
X-APPLE-STRUCTURED-LOCATION;VALUE=URI;X-ADDRESS=Tampa Museum of Art 120 W Gasparilla Plaza Tampa FL 33602 United States;X-APPLE-RADIUS=500;X-TITLE=120 W Gasparilla Plaza:geo:-82.4626673,27.9495219
END:VEVENT
BEGIN:VEVENT
DTSTART;TZID=America/New_York:20261128T110000
DTEND;TZID=America/New_York:20261128T111000
DTSTAMP:20260425T105146
CREATED:20260423T164728Z
LAST-MODIFIED:20260423T164728Z
UID:10006950-1795863600-1795864200@tampamuseum.org
SUMMARY:Gallery Chats
DESCRIPTION:Join the Visitor Experience Team for brief\, casual 5–10-minute Gallery Chats offered at 11 am and 3 pm. \nLed by the Visitor Experience Team\, these conversations are a great way to get an in-depth view of the art and further familiarize yourself with our exciting permanent collection and exhibitions. If you’re a first-time guest or long-time art enthusiast stopping in\, we invite you to join us and discover something new! \nOur Gallery Chats are free with admission and open to all visitors. Subject to change based on staff availability. \n 
URL:https://tampamuseum.org/event/gallery-chats/2026-11-28/
LOCATION:Tampa Museum of Art\, 120 W Gasparilla Plaza\, Tampa\, FL\, 33602\, United States
CATEGORIES:Gallery Activities & Tours
ATTACH;FMTTYPE=image/jpeg:https://tampamuseum.org/wp-content/uploads/2026/04/Gallery-Talks-2026-1.jpg
GEO:27.9495219;-82.4626673
X-APPLE-STRUCTURED-LOCATION;VALUE=URI;X-ADDRESS=Tampa Museum of Art 120 W Gasparilla Plaza Tampa FL 33602 United States;X-APPLE-RADIUS=500;X-TITLE=120 W Gasparilla Plaza:geo:-82.4626673,27.9495219
END:VEVENT
BEGIN:VEVENT
DTSTART;TZID=America/New_York:20261128T150000
DTEND;TZID=America/New_York:20261128T151000
DTSTAMP:20260425T105146
CREATED:20260424T192544Z
LAST-MODIFIED:20260424T192544Z
UID:10008783-1795878000-1795878600@tampamuseum.org
SUMMARY:Gallery Chats
DESCRIPTION:Join the Visitor Experience Team for brief\, casual 5–10-minute Gallery Chats offered at 11 am and 3 pm. \nLed by the Visitor Experience Team\, these conversations are a great way to get an in-depth view of the art and further familiarize yourself with our exciting permanent collection and exhibitions. If you’re a first-time guest or long-time art enthusiast stopping in\, we invite you to join us and discover something new! \nOur Gallery Chats are free with admission and open to all visitors. Subject to change based on staff availability.
URL:https://tampamuseum.org/event/gallery-chats-2/2026-11-28/
LOCATION:Tampa Museum of Art\, 120 W Gasparilla Plaza\, Tampa\, FL\, 33602\, United States
CATEGORIES:Adults,Children & Family,Educators,Gallery Activities & Tours,Lectures & Talks
ATTACH;FMTTYPE=image/jpeg:https://tampamuseum.org/wp-content/uploads/2026/04/Gallery-Talks-2026-1.jpg
GEO:27.9495219;-82.4626673
X-APPLE-STRUCTURED-LOCATION;VALUE=URI;X-ADDRESS=Tampa Museum of Art 120 W Gasparilla Plaza Tampa FL 33602 United States;X-APPLE-RADIUS=500;X-TITLE=120 W Gasparilla Plaza:geo:-82.4626673,27.9495219
END:VEVENT
END:VCALENDAR