BEGIN:VCALENDAR
VERSION:2.0
PRODID:-//Tampa Museum of Art - ECPv6.15.20//NONSGML v1.0//EN
CALSCALE:GREGORIAN
METHOD:PUBLISH
X-WR-CALNAME:Tampa Museum of Art
X-ORIGINAL-URL:https://tampamuseum.org
X-WR-CALDESC:Events for Tampa Museum of Art
REFRESH-INTERVAL;VALUE=DURATION:PT1H
X-Robots-Tag:noindex
X-PUBLISHED-TTL:PT1H
BEGIN:VTIMEZONE
TZID:America/New_York
BEGIN:DAYLIGHT
TZOFFSETFROM:-0500
TZOFFSETTO:-0400
TZNAME:EDT
DTSTART:20260308T070000
END:DAYLIGHT
BEGIN:STANDARD
TZOFFSETFROM:-0400
TZOFFSETTO:-0500
TZNAME:EST
DTSTART:20261101T060000
END:STANDARD
BEGIN:DAYLIGHT
TZOFFSETFROM:-0500
TZOFFSETTO:-0400
TZNAME:EDT
DTSTART:20270314T070000
END:DAYLIGHT
BEGIN:STANDARD
TZOFFSETFROM:-0400
TZOFFSETTO:-0500
TZNAME:EST
DTSTART:20271107T060000
END:STANDARD
BEGIN:DAYLIGHT
TZOFFSETFROM:-0500
TZOFFSETTO:-0400
TZNAME:EDT
DTSTART:20280312T070000
END:DAYLIGHT
BEGIN:STANDARD
TZOFFSETFROM:-0400
TZOFFSETTO:-0500
TZNAME:EST
DTSTART:20281105T060000
END:STANDARD
END:VTIMEZONE
BEGIN:VEVENT
DTSTART;TZID=America/New_York:20270228T150000
DTEND;TZID=America/New_York:20270228T151000
DTSTAMP:20260425T104904
CREATED:20260424T192544Z
LAST-MODIFIED:20260424T192544Z
UID:10008875-1803826800-1803827400@tampamuseum.org
SUMMARY:Gallery Chats
DESCRIPTION:Join the Visitor Experience Team for brief\, casual 5–10-minute Gallery Chats offered at 11 am and 3 pm. \nLed by the Visitor Experience Team\, these conversations are a great way to get an in-depth view of the art and further familiarize yourself with our exciting permanent collection and exhibitions. If you’re a first-time guest or long-time art enthusiast stopping in\, we invite you to join us and discover something new! \nOur Gallery Chats are free with admission and open to all visitors. Subject to change based on staff availability.
URL:https://tampamuseum.org/event/gallery-chats-2/2027-02-28/
LOCATION:Tampa Museum of Art\, 120 W Gasparilla Plaza\, Tampa\, FL\, 33602\, United States
CATEGORIES:Adults,Children & Family,Educators,Gallery Activities & Tours,Lectures & Talks
ATTACH;FMTTYPE=image/jpeg:https://tampamuseum.org/wp-content/uploads/2026/04/Gallery-Talks-2026-1.jpg
GEO:27.9495219;-82.4626673
X-APPLE-STRUCTURED-LOCATION;VALUE=URI;X-ADDRESS=Tampa Museum of Art 120 W Gasparilla Plaza Tampa FL 33602 United States;X-APPLE-RADIUS=500;X-TITLE=120 W Gasparilla Plaza:geo:-82.4626673,27.9495219
END:VEVENT
BEGIN:VEVENT
DTSTART;TZID=America/New_York:20270301T150000
DTEND;TZID=America/New_York:20270301T151000
DTSTAMP:20260425T104904
CREATED:20260424T192544Z
LAST-MODIFIED:20260424T192544Z
UID:10008876-1803913200-1803913800@tampamuseum.org
SUMMARY:Gallery Chats
DESCRIPTION:Join the Visitor Experience Team for brief\, casual 5–10-minute Gallery Chats offered at 11 am and 3 pm. \nLed by the Visitor Experience Team\, these conversations are a great way to get an in-depth view of the art and further familiarize yourself with our exciting permanent collection and exhibitions. If you’re a first-time guest or long-time art enthusiast stopping in\, we invite you to join us and discover something new! \nOur Gallery Chats are free with admission and open to all visitors. Subject to change based on staff availability.
URL:https://tampamuseum.org/event/gallery-chats-2/2027-03-01/
LOCATION:Tampa Museum of Art\, 120 W Gasparilla Plaza\, Tampa\, FL\, 33602\, United States
CATEGORIES:Adults,Children & Family,Educators,Gallery Activities & Tours,Lectures & Talks
ATTACH;FMTTYPE=image/jpeg:https://tampamuseum.org/wp-content/uploads/2026/04/Gallery-Talks-2026-1.jpg
GEO:27.9495219;-82.4626673
X-APPLE-STRUCTURED-LOCATION;VALUE=URI;X-ADDRESS=Tampa Museum of Art 120 W Gasparilla Plaza Tampa FL 33602 United States;X-APPLE-RADIUS=500;X-TITLE=120 W Gasparilla Plaza:geo:-82.4626673,27.9495219
END:VEVENT
BEGIN:VEVENT
DTSTART;TZID=America/New_York:20270302T150000
DTEND;TZID=America/New_York:20270302T151000
DTSTAMP:20260425T104904
CREATED:20260424T192544Z
LAST-MODIFIED:20260424T192544Z
UID:10008877-1803999600-1804000200@tampamuseum.org
SUMMARY:Gallery Chats
DESCRIPTION:Join the Visitor Experience Team for brief\, casual 5–10-minute Gallery Chats offered at 11 am and 3 pm. \nLed by the Visitor Experience Team\, these conversations are a great way to get an in-depth view of the art and further familiarize yourself with our exciting permanent collection and exhibitions. If you’re a first-time guest or long-time art enthusiast stopping in\, we invite you to join us and discover something new! \nOur Gallery Chats are free with admission and open to all visitors. Subject to change based on staff availability.
URL:https://tampamuseum.org/event/gallery-chats-2/2027-03-02/
LOCATION:Tampa Museum of Art\, 120 W Gasparilla Plaza\, Tampa\, FL\, 33602\, United States
CATEGORIES:Adults,Children & Family,Educators,Gallery Activities & Tours,Lectures & Talks
ATTACH;FMTTYPE=image/jpeg:https://tampamuseum.org/wp-content/uploads/2026/04/Gallery-Talks-2026-1.jpg
GEO:27.9495219;-82.4626673
X-APPLE-STRUCTURED-LOCATION;VALUE=URI;X-ADDRESS=Tampa Museum of Art 120 W Gasparilla Plaza Tampa FL 33602 United States;X-APPLE-RADIUS=500;X-TITLE=120 W Gasparilla Plaza:geo:-82.4626673,27.9495219
END:VEVENT
BEGIN:VEVENT
DTSTART;TZID=America/New_York:20270303T150000
DTEND;TZID=America/New_York:20270303T151000
DTSTAMP:20260425T104904
CREATED:20260424T192544Z
LAST-MODIFIED:20260424T192544Z
UID:10008878-1804086000-1804086600@tampamuseum.org
SUMMARY:Gallery Chats
DESCRIPTION:Join the Visitor Experience Team for brief\, casual 5–10-minute Gallery Chats offered at 11 am and 3 pm. \nLed by the Visitor Experience Team\, these conversations are a great way to get an in-depth view of the art and further familiarize yourself with our exciting permanent collection and exhibitions. If you’re a first-time guest or long-time art enthusiast stopping in\, we invite you to join us and discover something new! \nOur Gallery Chats are free with admission and open to all visitors. Subject to change based on staff availability.
URL:https://tampamuseum.org/event/gallery-chats-2/2027-03-03/
LOCATION:Tampa Museum of Art\, 120 W Gasparilla Plaza\, Tampa\, FL\, 33602\, United States
CATEGORIES:Adults,Children & Family,Educators,Gallery Activities & Tours,Lectures & Talks
ATTACH;FMTTYPE=image/jpeg:https://tampamuseum.org/wp-content/uploads/2026/04/Gallery-Talks-2026-1.jpg
GEO:27.9495219;-82.4626673
X-APPLE-STRUCTURED-LOCATION;VALUE=URI;X-ADDRESS=Tampa Museum of Art 120 W Gasparilla Plaza Tampa FL 33602 United States;X-APPLE-RADIUS=500;X-TITLE=120 W Gasparilla Plaza:geo:-82.4626673,27.9495219
END:VEVENT
BEGIN:VEVENT
DTSTART;TZID=America/New_York:20270304T150000
DTEND;TZID=America/New_York:20270304T151000
DTSTAMP:20260425T104904
CREATED:20260424T192544Z
LAST-MODIFIED:20260424T192544Z
UID:10008879-1804172400-1804173000@tampamuseum.org
SUMMARY:Gallery Chats
DESCRIPTION:Join the Visitor Experience Team for brief\, casual 5–10-minute Gallery Chats offered at 11 am and 3 pm. \nLed by the Visitor Experience Team\, these conversations are a great way to get an in-depth view of the art and further familiarize yourself with our exciting permanent collection and exhibitions. If you’re a first-time guest or long-time art enthusiast stopping in\, we invite you to join us and discover something new! \nOur Gallery Chats are free with admission and open to all visitors. Subject to change based on staff availability.
URL:https://tampamuseum.org/event/gallery-chats-2/2027-03-04/
LOCATION:Tampa Museum of Art\, 120 W Gasparilla Plaza\, Tampa\, FL\, 33602\, United States
CATEGORIES:Adults,Children & Family,Educators,Gallery Activities & Tours,Lectures & Talks
ATTACH;FMTTYPE=image/jpeg:https://tampamuseum.org/wp-content/uploads/2026/04/Gallery-Talks-2026-1.jpg
GEO:27.9495219;-82.4626673
X-APPLE-STRUCTURED-LOCATION;VALUE=URI;X-ADDRESS=Tampa Museum of Art 120 W Gasparilla Plaza Tampa FL 33602 United States;X-APPLE-RADIUS=500;X-TITLE=120 W Gasparilla Plaza:geo:-82.4626673,27.9495219
END:VEVENT
BEGIN:VEVENT
DTSTART;TZID=America/New_York:20270305T150000
DTEND;TZID=America/New_York:20270305T151000
DTSTAMP:20260425T104904
CREATED:20260424T192544Z
LAST-MODIFIED:20260424T192544Z
UID:10008880-1804258800-1804259400@tampamuseum.org
SUMMARY:Gallery Chats
DESCRIPTION:Join the Visitor Experience Team for brief\, casual 5–10-minute Gallery Chats offered at 11 am and 3 pm. \nLed by the Visitor Experience Team\, these conversations are a great way to get an in-depth view of the art and further familiarize yourself with our exciting permanent collection and exhibitions. If you’re a first-time guest or long-time art enthusiast stopping in\, we invite you to join us and discover something new! \nOur Gallery Chats are free with admission and open to all visitors. Subject to change based on staff availability.
URL:https://tampamuseum.org/event/gallery-chats-2/2027-03-05/
LOCATION:Tampa Museum of Art\, 120 W Gasparilla Plaza\, Tampa\, FL\, 33602\, United States
CATEGORIES:Adults,Children & Family,Educators,Gallery Activities & Tours,Lectures & Talks
ATTACH;FMTTYPE=image/jpeg:https://tampamuseum.org/wp-content/uploads/2026/04/Gallery-Talks-2026-1.jpg
GEO:27.9495219;-82.4626673
X-APPLE-STRUCTURED-LOCATION;VALUE=URI;X-ADDRESS=Tampa Museum of Art 120 W Gasparilla Plaza Tampa FL 33602 United States;X-APPLE-RADIUS=500;X-TITLE=120 W Gasparilla Plaza:geo:-82.4626673,27.9495219
END:VEVENT
BEGIN:VEVENT
DTSTART;TZID=America/New_York:20270306T150000
DTEND;TZID=America/New_York:20270306T151000
DTSTAMP:20260425T104904
CREATED:20260424T192544Z
LAST-MODIFIED:20260424T192544Z
UID:10008881-1804345200-1804345800@tampamuseum.org
SUMMARY:Gallery Chats
DESCRIPTION:Join the Visitor Experience Team for brief\, casual 5–10-minute Gallery Chats offered at 11 am and 3 pm. \nLed by the Visitor Experience Team\, these conversations are a great way to get an in-depth view of the art and further familiarize yourself with our exciting permanent collection and exhibitions. If you’re a first-time guest or long-time art enthusiast stopping in\, we invite you to join us and discover something new! \nOur Gallery Chats are free with admission and open to all visitors. Subject to change based on staff availability.
URL:https://tampamuseum.org/event/gallery-chats-2/2027-03-06/
LOCATION:Tampa Museum of Art\, 120 W Gasparilla Plaza\, Tampa\, FL\, 33602\, United States
CATEGORIES:Adults,Children & Family,Educators,Gallery Activities & Tours,Lectures & Talks
ATTACH;FMTTYPE=image/jpeg:https://tampamuseum.org/wp-content/uploads/2026/04/Gallery-Talks-2026-1.jpg
GEO:27.9495219;-82.4626673
X-APPLE-STRUCTURED-LOCATION;VALUE=URI;X-ADDRESS=Tampa Museum of Art 120 W Gasparilla Plaza Tampa FL 33602 United States;X-APPLE-RADIUS=500;X-TITLE=120 W Gasparilla Plaza:geo:-82.4626673,27.9495219
END:VEVENT
END:VCALENDAR