BEGIN:VCALENDAR
VERSION:2.0
PRODID:-//Tampa Museum of Art - ECPv6.15.20//NONSGML v1.0//EN
CALSCALE:GREGORIAN
METHOD:PUBLISH
X-WR-CALNAME:Tampa Museum of Art
X-ORIGINAL-URL:https://tampamuseum.org
X-WR-CALDESC:Events for Tampa Museum of Art
REFRESH-INTERVAL;VALUE=DURATION:PT1H
X-Robots-Tag:noindex
X-PUBLISHED-TTL:PT1H
BEGIN:VTIMEZONE
TZID:America/New_York
BEGIN:DAYLIGHT
TZOFFSETFROM:-0500
TZOFFSETTO:-0400
TZNAME:EDT
DTSTART:20240310T070000
END:DAYLIGHT
BEGIN:STANDARD
TZOFFSETFROM:-0400
TZOFFSETTO:-0500
TZNAME:EST
DTSTART:20241103T060000
END:STANDARD
BEGIN:DAYLIGHT
TZOFFSETFROM:-0500
TZOFFSETTO:-0400
TZNAME:EDT
DTSTART:20250309T070000
END:DAYLIGHT
BEGIN:STANDARD
TZOFFSETFROM:-0400
TZOFFSETTO:-0500
TZNAME:EST
DTSTART:20251102T060000
END:STANDARD
BEGIN:DAYLIGHT
TZOFFSETFROM:-0500
TZOFFSETTO:-0400
TZNAME:EDT
DTSTART:20260308T070000
END:DAYLIGHT
BEGIN:STANDARD
TZOFFSETFROM:-0400
TZOFFSETTO:-0500
TZNAME:EST
DTSTART:20261101T060000
END:STANDARD
END:VTIMEZONE
BEGIN:VEVENT
DTSTART;TZID=America/New_York:20250508T180000
DTEND;TZID=America/New_York:20250508T190000
DTSTAMP:20260425T210804
CREATED:20250417T120036Z
LAST-MODIFIED:20250507T213936Z
UID:10006175-1746727200-1746730800@tampamuseum.org
SUMMARY:Collector's Chat: The Rice Collection of Cuban Art
DESCRIPTION:COLLECTOR’S CHAT: JOANNA ROBOTHAM IN CONVERSATION WITH MITCHELL RICE \nUnder the Spell of the Palm Tree: The Rice Collection of Cuban Art \nThursday\, May 8th | 6pm-7pm \nJoin us in the exhibition Under the Spell of the Palm Tree: The Rice Collection of Cuban Art for a special Collector’s Chat with Mitchell Rice. Hear about the range of works on view from the collector’s perspective and how the Rice Family has grown its collection in scope and media. The Collector’s Chat will highlight the many artists who inspire the Rice Family to collect art. \nThis event is included with the Tampa Museum of Art’s Art on the House program\, in which visitors can choose the admission price they want to pay. Any donation amount is welcome! \nRSVP for this Program \nImage Caption: Mario Carreño (Cuban\, 1913 – 1999)\, The Farm\, 1945. Oil on canvas. Framed: 40 x 46 x 3 inches. The Rice Collection.
URL:https://tampamuseum.org/event/collectors-chat-the-rice-collection-of-cuban-art/
LOCATION:Tampa Museum of Art\, 120 W Gasparilla Plaza\, Tampa\, FL\, 33602\, United States
CATEGORIES:Adults,Lectures & Talks
ATTACH;FMTTYPE=image/png:https://tampamuseum.org/wp-content/uploads/2025/04/Copy-of-Mario-Carreno_The-Farm.png
GEO:27.9495219;-82.4626673
X-APPLE-STRUCTURED-LOCATION;VALUE=URI;X-ADDRESS=Tampa Museum of Art 120 W Gasparilla Plaza Tampa FL 33602 United States;X-APPLE-RADIUS=500;X-TITLE=120 W Gasparilla Plaza:geo:-82.4626673,27.9495219
END:VEVENT
END:VCALENDAR