BEGIN:VCALENDAR
VERSION:2.0
PRODID:-//Tampa Museum of Art - ECPv6.15.20//NONSGML v1.0//EN
CALSCALE:GREGORIAN
METHOD:PUBLISH
X-ORIGINAL-URL:https://tampamuseum.org
X-WR-CALDESC:Events for Tampa Museum of Art
REFRESH-INTERVAL;VALUE=DURATION:PT1H
X-Robots-Tag:noindex
X-PUBLISHED-TTL:PT1H
BEGIN:VTIMEZONE
TZID:America/New_York
BEGIN:DAYLIGHT
TZOFFSETFROM:-0500
TZOFFSETTO:-0400
TZNAME:EDT
DTSTART:20240310T070000
END:DAYLIGHT
BEGIN:STANDARD
TZOFFSETFROM:-0400
TZOFFSETTO:-0500
TZNAME:EST
DTSTART:20241103T060000
END:STANDARD
BEGIN:DAYLIGHT
TZOFFSETFROM:-0500
TZOFFSETTO:-0400
TZNAME:EDT
DTSTART:20250309T070000
END:DAYLIGHT
BEGIN:STANDARD
TZOFFSETFROM:-0400
TZOFFSETTO:-0500
TZNAME:EST
DTSTART:20251102T060000
END:STANDARD
BEGIN:DAYLIGHT
TZOFFSETFROM:-0500
TZOFFSETTO:-0400
TZNAME:EDT
DTSTART:20260308T070000
END:DAYLIGHT
BEGIN:STANDARD
TZOFFSETFROM:-0400
TZOFFSETTO:-0500
TZNAME:EST
DTSTART:20261101T060000
END:STANDARD
END:VTIMEZONE
BEGIN:VEVENT
DTSTART;TZID=America/New_York:20250427T140000
DTEND;TZID=America/New_York:20250427T150000
DTSTAMP:20260425T210716
CREATED:20250121T220942Z
LAST-MODIFIED:20250408T213831Z
UID:10005986-1745762400-1745766000@tampamuseum.org
SUMMARY:Antiquities Lecture: Discovering the Etruscans
DESCRIPTION:Antiquities Lecture: Discovering the Etruscans \nDive into the fascinating world of the Etruscans\, an ancient civilization that flourished in Italy for over a millennium yet remains largely unknown to many. This lecture will explore their unique contributions to art and architecture\, uncover the mysteries of their non-Indo-European language\, and highlight how modern archaeological advancements have deepened our understanding of their influence on both ancient Romans and modern Italians. Join us to discover why the Etruscans are more than just a footnote in history. \nLectures are offered free with the cost of daily admission: \n\nArt+ Museum Members: Free\nNot-Yet-Members: $25\nCollege Students: Free\n\nRSVP for this program \n Richard Daniel De Puma is the F. Wendell Miller Professor Emeritus of Classical Art and Archaeology\, University of Iowa. Throughout his long career and into his “retirement\,” Dr. De Puma has combined archaeological excavations with curatorial work at various international renowned museums. He has done field work in Turkey\, Tunisia\, India and Italy. Specifically\, he was co-director with Paolo Togninelli of the excavations at Crustumerium\, a Latin settlement just north of Rome. \nDe Puma was the Lead Curatorial Consultant for the permanent display of the Etruscan collection at the Metropolitan Museum of Art that opened in 2007\, and the accompanying catalog Etruscan Art in the Metropolitan Museum of Art (2013). He is currently working on the exhibition and catalogue for “The Etruscans: From the Heart of Ancient Italy\,” which is set to open at San Francisco’s Legion of Honor Museum in May 2026. De Puma has lectured throughout North America\, Western Europe and New Zealand. He has been the editor of several journals and was on the Advisory Boards of the American Journal of Archaeology and Etruscan and Italic Studies. Additionally\, De Puma is a member of prestigious institutions such as the Istituto di Studi Etruschi ed Italici in Florence\, the Deutsches Archaeologishes Institut in Berlin. \nPresenting Sponsor: Belinda Dumont \nThis program is brought to you by members of the Antiquities Circle. \nImage: Ash Urn with Bowl. Impasto biconical cinerarium (ceramic vessel); Vulci or Caere [?]\, Etruria\, Italy; Villanovan period\, ca. 9th cent. ʙᴄᴇ. Tampa Museum of Art\, Gift of Robert and Janette Moody\, 1986.284.a-b
URL:https://tampamuseum.org/event/antiquities-lecture-discovering-the-etruscans/
LOCATION:Tampa Museum of Art\, 120 W Gasparilla Plaza\, Tampa\, FL\, 33602\, United States
CATEGORIES:Adults,Lectures & Talks,Member Event
ATTACH;FMTTYPE=image/jpeg:https://tampamuseum.org/wp-content/uploads/2025/01/Ash-Urn.jpg
GEO:27.9495219;-82.4626673
X-APPLE-STRUCTURED-LOCATION;VALUE=URI;X-ADDRESS=Tampa Museum of Art 120 W Gasparilla Plaza Tampa FL 33602 United States;X-APPLE-RADIUS=500;X-TITLE=120 W Gasparilla Plaza:geo:-82.4626673,27.9495219
END:VEVENT
END:VCALENDAR