BEGIN:VCALENDAR
VERSION:2.0
PRODID:-//Tampa Museum of Art - ECPv6.15.20//NONSGML v1.0//EN
CALSCALE:GREGORIAN
METHOD:PUBLISH
X-ORIGINAL-URL:https://tampamuseum.org
X-WR-CALDESC:Events for Tampa Museum of Art
REFRESH-INTERVAL;VALUE=DURATION:PT1H
X-Robots-Tag:noindex
X-PUBLISHED-TTL:PT1H
BEGIN:VTIMEZONE
TZID:America/New_York
BEGIN:DAYLIGHT
TZOFFSETFROM:-0500
TZOFFSETTO:-0400
TZNAME:EDT
DTSTART:20240310T070000
END:DAYLIGHT
BEGIN:STANDARD
TZOFFSETFROM:-0400
TZOFFSETTO:-0500
TZNAME:EST
DTSTART:20241103T060000
END:STANDARD
BEGIN:DAYLIGHT
TZOFFSETFROM:-0500
TZOFFSETTO:-0400
TZNAME:EDT
DTSTART:20250309T070000
END:DAYLIGHT
BEGIN:STANDARD
TZOFFSETFROM:-0400
TZOFFSETTO:-0500
TZNAME:EST
DTSTART:20251102T060000
END:STANDARD
BEGIN:DAYLIGHT
TZOFFSETFROM:-0500
TZOFFSETTO:-0400
TZNAME:EDT
DTSTART:20260308T070000
END:DAYLIGHT
BEGIN:STANDARD
TZOFFSETFROM:-0400
TZOFFSETTO:-0500
TZNAME:EST
DTSTART:20261101T060000
END:STANDARD
END:VTIMEZONE
BEGIN:VEVENT
DTSTART;TZID=America/New_York:20251113T100000
DTEND;TZID=America/New_York:20251113T190000
DTSTAMP:20260425T165919
CREATED:20251014T210242Z
LAST-MODIFIED:20251015T160837Z
UID:10006339-1763028000-1763060400@tampamuseum.org
SUMMARY:Holiday Shopping Event
DESCRIPTION:Thursday\, November 13 | 10a — 7p\nArt+ Members save 20%! l Not-yet-Members save 10% \nFind something for everyone on your list with unique gifts made by local artists and vendors at the Tampa Museum of Art’s Holiday Shopping Event! Explore the Harrod Family Museum Store’s extraordinary selection of jewelry\, books\, home accessories\, stationery\, children’s items and more! \n  \nLocal Artists Include:\nLisi-Tana Stationery\, Designs by Moni Stationery\, Samantha Uttech Jewelry Design\, Lonni Hopkins Jewelry Design\, Mill Atty Maison Accessories
URL:https://tampamuseum.org/event/holiday-shopping-event-2/
LOCATION:Tampa Museum of Art\, 120 W Gasparilla Plaza\, Tampa\, FL\, 33602\, United States
CATEGORIES:Adults,Children & Family,Holiday
ATTACH;FMTTYPE=image/jpeg:https://tampamuseum.org/wp-content/uploads/2025/10/Holiday-Shopping-Web-Image-2025.jpg
GEO:27.9495219;-82.4626673
X-APPLE-STRUCTURED-LOCATION;VALUE=URI;X-ADDRESS=Tampa Museum of Art 120 W Gasparilla Plaza Tampa FL 33602 United States;X-APPLE-RADIUS=500;X-TITLE=120 W Gasparilla Plaza:geo:-82.4626673,27.9495219
END:VEVENT
BEGIN:VEVENT
DTSTART;TZID=America/New_York:20250813T100000
DTEND;TZID=America/New_York:20250813T170000
DTSTAMP:20260425T165919
CREATED:20250807T144129Z
LAST-MODIFIED:20250807T144129Z
UID:10006200-1755079200-1755104400@tampamuseum.org
SUMMARY:813 Day
DESCRIPTION:Join us for 813 Day! All General Admissions will be reduced by $8.13. Be one of the first to see our newest exhibition\, In a New Light: American Impressionism 1870–1940 Works from the Bank of America Collection and all that the museum has to offer. Bring your friends and explore! Come in and speak to the team members at the front desk and receive your discount.  \nID or proof of residency not required. Not applicable online or for other dates/times. Discount valid on 8/13/25 only on full price adult admission. 
URL:https://tampamuseum.org/event/813-day/
LOCATION:Tampa Museum of Art\, 120 W Gasparilla Plaza\, Tampa\, FL\, 33602\, United States
CATEGORIES:Adults,Holiday
ATTACH;FMTTYPE=image/jpeg:https://tampamuseum.org/wp-content/uploads/2025/07/813-Day-TMA-2025-1.jpg
GEO:27.9495219;-82.4626673
X-APPLE-STRUCTURED-LOCATION;VALUE=URI;X-ADDRESS=Tampa Museum of Art 120 W Gasparilla Plaza Tampa FL 33602 United States;X-APPLE-RADIUS=500;X-TITLE=120 W Gasparilla Plaza:geo:-82.4626673,27.9495219
END:VEVENT
BEGIN:VEVENT
DTSTART;TZID=America/New_York:20250704T100000
DTEND;TZID=America/New_York:20250704T150000
DTSTAMP:20260425T165919
CREATED:20240522T202643Z
LAST-MODIFIED:20240522T202643Z
UID:10005291-1751623200-1751641200@tampamuseum.org
SUMMARY:Independence Day Early Closure
DESCRIPTION:Happy 4th of July! To commemorate the Independence Day holiday\, the Tampa Museum of Art will close early at 3 pm so that our staff can enjoy the festivities with their families. \nThe Museum will be open during regular hours for the remainder of the week.
URL:https://tampamuseum.org/event/independence-day/2025-07-04/
LOCATION:Tampa Museum of Art\, 120 W Gasparilla Plaza\, Tampa\, FL\, 33602\, United States
CATEGORIES:Holiday
ATTACH;FMTTYPE=image/jpeg:https://tampamuseum.org/wp-content/uploads/2024/05/Independence-Day.jpeg
GEO:27.9495219;-82.4626673
X-APPLE-STRUCTURED-LOCATION;VALUE=URI;X-ADDRESS=Tampa Museum of Art 120 W Gasparilla Plaza Tampa FL 33602 United States;X-APPLE-RADIUS=500;X-TITLE=120 W Gasparilla Plaza:geo:-82.4626673,27.9495219
END:VEVENT
END:VCALENDAR