BEGIN:VCALENDAR
VERSION:2.0
PRODID:-//Tampa Museum of Art - ECPv6.15.20//NONSGML v1.0//EN
CALSCALE:GREGORIAN
METHOD:PUBLISH
X-ORIGINAL-URL:https://tampamuseum.org
X-WR-CALDESC:Events for Tampa Museum of Art
REFRESH-INTERVAL;VALUE=DURATION:PT1H
X-Robots-Tag:noindex
X-PUBLISHED-TTL:PT1H
BEGIN:VTIMEZONE
TZID:America/New_York
BEGIN:DAYLIGHT
TZOFFSETFROM:-0500
TZOFFSETTO:-0400
TZNAME:EDT
DTSTART:20250309T070000
END:DAYLIGHT
BEGIN:STANDARD
TZOFFSETFROM:-0400
TZOFFSETTO:-0500
TZNAME:EST
DTSTART:20251102T060000
END:STANDARD
BEGIN:DAYLIGHT
TZOFFSETFROM:-0500
TZOFFSETTO:-0400
TZNAME:EDT
DTSTART:20260308T070000
END:DAYLIGHT
BEGIN:STANDARD
TZOFFSETFROM:-0400
TZOFFSETTO:-0500
TZNAME:EST
DTSTART:20261101T060000
END:STANDARD
BEGIN:DAYLIGHT
TZOFFSETFROM:-0500
TZOFFSETTO:-0400
TZNAME:EDT
DTSTART:20270314T070000
END:DAYLIGHT
BEGIN:STANDARD
TZOFFSETFROM:-0400
TZOFFSETTO:-0500
TZNAME:EST
DTSTART:20271107T060000
END:STANDARD
END:VTIMEZONE
BEGIN:VEVENT
DTSTART;TZID=America/New_York:20260404T100000
DTEND;TZID=America/New_York:20260405T170000
DTSTAMP:20260424T160827
CREATED:20250701T183922Z
LAST-MODIFIED:20250925T200344Z
UID:10006046-1775296800-1775408400@tampamuseum.org
SUMMARY:Bank of America "Museums on Us" Weekend
DESCRIPTION:We’ve partnered with Bank of America to bring you Museums on Us. For the first weekend of every month\, active Bank of America\, Merrill or Bank of America Private Bank credit or debit cardholders with a valid photo ID receive one free general admission to the Tampa Museum of Art. \nThis offer is exclusive to the cardholder and does not apply to ticketed and special exhibitions or fundraising events. \nIf you have any questions about visiting the Tampa Museum of Art\, please call 813.274.8130. \nLearn more about Bank of America’s Museums on Us program.
URL:https://tampamuseum.org/event/bank-of-america-museums-of-us-weekend-2/2026-04-04/
LOCATION:Tampa Museum of Art\, 120 W Gasparilla Plaza\, Tampa\, FL\, 33602\, United States
CATEGORIES:Free Event
ATTACH;FMTTYPE=image/jpeg:https://tampamuseum.org/wp-content/uploads/2025/03/IMG_20220801_154024_WEB.jpg
GEO:27.9495219;-82.4626673
X-APPLE-STRUCTURED-LOCATION;VALUE=URI;X-ADDRESS=Tampa Museum of Art 120 W Gasparilla Plaza Tampa FL 33602 United States;X-APPLE-RADIUS=500;X-TITLE=120 W Gasparilla Plaza:geo:-82.4626673,27.9495219
END:VEVENT
BEGIN:VEVENT
DTSTART;TZID=America/New_York:20260411T131500
DTEND;TZID=America/New_York:20260411T173000
DTSTAMP:20260424T160827
CREATED:20251205T174105Z
LAST-MODIFIED:20260407T214336Z
UID:10006414-1775913300-1775928600@tampamuseum.org
SUMMARY:Young Directors' Film Festival
DESCRIPTION:Celebrate the best of Tampa Bay high school film making with the Tampa Museum of Art’s Youth Council! \nThis year’s Young Directors’ Film Festival will be held at two locations: Tampa Theatre and Tampa Museum of Art. The two events are within a short 5 to 7 minute walk. The films will be screened in the Tampa Theatre over two viewing sessions\, at 1:15p and 3:00p. The awards will be announced at the Tampa Museum of Art during a ceremony starting at 4:30. As always\, the event and museum admission for the day of the festival are FREE! \nThe Youth Council’s Young Director’s Film Festival highlights the creative talents of high school students from across the Tampa Bay Area\, providing them with a unique platform to showcase their films.
URL:https://tampamuseum.org/event/young-directors-film-festival-3/
LOCATION:Tampa Theatre\, 711 N Franklin St\, Tampa\, FL\, 33602\, United States
CATEGORIES:Free Event,Teens
ATTACH;FMTTYPE=image/jpeg:https://tampamuseum.org/wp-content/uploads/2025/02/IMG_4307.jpg
GEO:27.950374;-82.458808
X-APPLE-STRUCTURED-LOCATION;VALUE=URI;X-ADDRESS=Tampa Theatre 711 N Franklin St Tampa FL 33602 United States;X-APPLE-RADIUS=500;X-TITLE=711 N Franklin St:geo:-82.458808,27.950374
END:VEVENT
END:VCALENDAR