BEGIN:VCALENDAR
VERSION:2.0
PRODID:-//Tampa Museum of Art - ECPv6.15.20//NONSGML v1.0//EN
CALSCALE:GREGORIAN
METHOD:PUBLISH
X-ORIGINAL-URL:https://tampamuseum.org
X-WR-CALDESC:Events for Tampa Museum of Art
REFRESH-INTERVAL;VALUE=DURATION:PT1H
X-Robots-Tag:noindex
X-PUBLISHED-TTL:PT1H
BEGIN:VTIMEZONE
TZID:America/New_York
BEGIN:DAYLIGHT
TZOFFSETFROM:-0500
TZOFFSETTO:-0400
TZNAME:EDT
DTSTART:20250309T070000
END:DAYLIGHT
BEGIN:STANDARD
TZOFFSETFROM:-0400
TZOFFSETTO:-0500
TZNAME:EST
DTSTART:20251102T060000
END:STANDARD
BEGIN:DAYLIGHT
TZOFFSETFROM:-0500
TZOFFSETTO:-0400
TZNAME:EDT
DTSTART:20260308T070000
END:DAYLIGHT
BEGIN:STANDARD
TZOFFSETFROM:-0400
TZOFFSETTO:-0500
TZNAME:EST
DTSTART:20261101T060000
END:STANDARD
BEGIN:DAYLIGHT
TZOFFSETFROM:-0500
TZOFFSETTO:-0400
TZNAME:EDT
DTSTART:20270314T070000
END:DAYLIGHT
BEGIN:STANDARD
TZOFFSETFROM:-0400
TZOFFSETTO:-0500
TZNAME:EST
DTSTART:20271107T060000
END:STANDARD
END:VTIMEZONE
BEGIN:VEVENT
DTSTART;TZID=America/New_York:20260801T100000
DTEND;TZID=America/New_York:20260802T170000
DTSTAMP:20260424T213557
CREATED:20250701T183922Z
LAST-MODIFIED:20250925T200344Z
UID:10006050-1785578400-1785690000@tampamuseum.org
SUMMARY:Bank of America "Museums on Us" Weekend
DESCRIPTION:We’ve partnered with Bank of America to bring you Museums on Us. For the first weekend of every month\, active Bank of America\, Merrill or Bank of America Private Bank credit or debit cardholders with a valid photo ID receive one free general admission to the Tampa Museum of Art. \nThis offer is exclusive to the cardholder and does not apply to ticketed and special exhibitions or fundraising events. \nIf you have any questions about visiting the Tampa Museum of Art\, please call 813.274.8130. \nLearn more about Bank of America’s Museums on Us program.
URL:https://tampamuseum.org/event/bank-of-america-museums-of-us-weekend-2/2026-08-01/
LOCATION:Tampa Museum of Art\, 120 W Gasparilla Plaza\, Tampa\, FL\, 33602\, United States
CATEGORIES:Free Event
ATTACH;FMTTYPE=image/jpeg:https://tampamuseum.org/wp-content/uploads/2025/03/IMG_20220801_154024_WEB.jpg
GEO:27.9495219;-82.4626673
X-APPLE-STRUCTURED-LOCATION;VALUE=URI;X-ADDRESS=Tampa Museum of Art 120 W Gasparilla Plaza Tampa FL 33602 United States;X-APPLE-RADIUS=500;X-TITLE=120 W Gasparilla Plaza:geo:-82.4626673,27.9495219
END:VEVENT
BEGIN:VEVENT
DTSTART;TZID=America/New_York:20260821T110000
DTEND;TZID=America/New_York:20260821T120000
DTSTAMP:20260424T213557
CREATED:20260422T182335Z
LAST-MODIFIED:20260422T182335Z
UID:10008558-1787310000-1787313600@tampamuseum.org
SUMMARY:Slow Looking with Florida Artists
DESCRIPTION:Join us for an engaging and interactive discussion at the Jimmie B. Keel Regional Library. \nThrough guided slow-looking exercises\, participants will spend meaningful time with selected artworks from the Museum’s collection\, sharing observations\, interpretations\, and perspectives in a welcoming group setting. We will focus on artworks created by Florida artists represented in the Museum’s collection. No prior art knowledge required! \nRegister for this Program \nImage: Suzanne Camp-Crosby (American\, 1948-2020)\, Scenic View #1\, 1990\, Dye destruction print\, 13 5/8 x 14 5/8 inches\, Tampa Museum of Art\, Gift of the artist in honor of Genevieve Linnehan\, 1992.010
URL:https://tampamuseum.org/event/slow-looking-with-florida-artists-2/
LOCATION:Jimmie B. Keel Regional Library\, 2902 W Bearss Ave\, Tampa\, 33618\, United States
CATEGORIES:Adults,Free Event,Lectures & Talks
ATTACH;FMTTYPE=image/jpeg:https://tampamuseum.org/wp-content/uploads/2020/11/1992-010-scaled.jpg
END:VEVENT
BEGIN:VEVENT
DTSTART;TZID=America/New_York:20260825T110000
DTEND;TZID=America/New_York:20260825T120000
DTSTAMP:20260424T213557
CREATED:20260422T182623Z
LAST-MODIFIED:20260422T182623Z
UID:10008559-1787655600-1787659200@tampamuseum.org
SUMMARY:Slow Looking with Florida Artists
DESCRIPTION:Join us for an engaging and interactive discussion at the Town ‘N Country Regional Public Library. \nThrough guided slow-looking exercises\, participants will spend meaningful time with selected artworks from the Museum’s collection\, sharing observations\, interpretations\, and perspectives in a welcoming group setting. We will focus on artworks created by Florida artists represented in the Museum’s collection. No prior art knowledge required! \nRegister for this Program \nImage: Suzanne Camp-Crosby (American\, 1948-2020)\, Scenic View #1\, 1990\, Dye destruction print\, 13 5/8 x 14 5/8 inches\, Tampa Museum of Art\, Gift of the artist in honor of Genevieve Linnehan\, 1992.010
URL:https://tampamuseum.org/event/slow-looking-with-florida-artists-3/
LOCATION:Town ‘N Country Regional Public Library\, 7606 Paula Dr. #120\, Tampa\, 33615\, United States
CATEGORIES:Adults,Free Event,Lectures & Talks
ATTACH;FMTTYPE=image/jpeg:https://tampamuseum.org/wp-content/uploads/2020/11/1992-010-scaled.jpg
END:VEVENT
BEGIN:VEVENT
DTSTART;TZID=America/New_York:20260828T110000
DTEND;TZID=America/New_York:20260828T130000
DTSTAMP:20260424T213557
CREATED:20260422T182859Z
LAST-MODIFIED:20260422T182859Z
UID:10008560-1787914800-1787922000@tampamuseum.org
SUMMARY:Slow Looking with Florida Artists
DESCRIPTION:Join us for an engaging and interactive discussion at the North Tampa Branch Library. \nThrough guided slow-looking exercises\, participants will spend meaningful time with selected artworks from the Museum’s collection\, sharing observations\, interpretations\, and perspectives in a welcoming group setting. We will focus on artworks created by Florida artists represented in the Museum’s collection. No prior art knowledge required! \nRegister for this Program \nImage: Suzanne Camp-Crosby (American\, 1948-2020)\, Scenic View #1\, 1990\, Dye destruction print\, 13 5/8 x 14 5/8 inches\, Tampa Museum of Art\, Gift of the artist in honor of Genevieve Linnehan\, 1992.010
URL:https://tampamuseum.org/event/slow-looking-with-florida-artists-4/
LOCATION:North Tampa Branch Library\, 8916 N Blvd\, Tampa\, 33604\, United States
CATEGORIES:Adults,Free Event,Lectures & Talks
ATTACH;FMTTYPE=image/jpeg:https://tampamuseum.org/wp-content/uploads/2020/11/1992-010-scaled.jpg
END:VEVENT
END:VCALENDAR