BEGIN:VCALENDAR
VERSION:2.0
PRODID:-//Tampa Museum of Art - ECPv6.15.20//NONSGML v1.0//EN
CALSCALE:GREGORIAN
METHOD:PUBLISH
X-WR-CALNAME:Tampa Museum of Art
X-ORIGINAL-URL:https://tampamuseum.org
X-WR-CALDESC:Events for Tampa Museum of Art
REFRESH-INTERVAL;VALUE=DURATION:PT1H
X-Robots-Tag:noindex
X-PUBLISHED-TTL:PT1H
BEGIN:VTIMEZONE
TZID:America/New_York
BEGIN:DAYLIGHT
TZOFFSETFROM:-0500
TZOFFSETTO:-0400
TZNAME:EDT
DTSTART:20250309T070000
END:DAYLIGHT
BEGIN:STANDARD
TZOFFSETFROM:-0400
TZOFFSETTO:-0500
TZNAME:EST
DTSTART:20251102T060000
END:STANDARD
BEGIN:DAYLIGHT
TZOFFSETFROM:-0500
TZOFFSETTO:-0400
TZNAME:EDT
DTSTART:20260308T070000
END:DAYLIGHT
BEGIN:STANDARD
TZOFFSETFROM:-0400
TZOFFSETTO:-0500
TZNAME:EST
DTSTART:20261101T060000
END:STANDARD
BEGIN:DAYLIGHT
TZOFFSETFROM:-0500
TZOFFSETTO:-0400
TZNAME:EDT
DTSTART:20270314T070000
END:DAYLIGHT
BEGIN:STANDARD
TZOFFSETFROM:-0400
TZOFFSETTO:-0500
TZNAME:EST
DTSTART:20271107T060000
END:STANDARD
END:VTIMEZONE
BEGIN:VEVENT
DTSTART;TZID=America/New_York:20260531T090000
DTEND;TZID=America/New_York:20260531T110000
DTSTAMP:20260425T225608
CREATED:20251020T183519Z
LAST-MODIFIED:20251020T183520Z
UID:10005940-1780218000-1780225200@tampamuseum.org
SUMMARY:Art on the Spectrum
DESCRIPTION:Art on the Spectrum Hours:\nLast Sunday of Each Month\, 9am – 11am \nArt on the Spectrum is a special monthly event designed to welcome individuals with sensory sensitivities\, developmental differences\, and their caregivers. Enjoy exploring the museum in a calm\, low-crowd environment with sensory-friendly tools and supportive assistance available. You can borrow noise-canceling headphones or other sensory items from the front desk as well – just ask! This event offers children and their families a chance to connect with others who share similar experiences\, while enjoying all the museum has to offer. \nFree admission for Art on the Spectrum is made possible thanks to: The Autism License Plate Fund and The Autism Services Grants Council. \nArt on the Spectrum is hosted by the Tampa Museum of Art in partnership with the Center for Autism & Related Disabilities (C.A.R.D.) at the University of South Florida. \nQuestions? Please contact hello@tampamuseum.org 
URL:https://tampamuseum.org/event/art-on-the-spectrum-2-2/2026-05-31/
LOCATION:Tampa Museum of Art\, 120 W Gasparilla Plaza\, Tampa\, FL\, 33602\, United States
CATEGORIES:Children & Family
ATTACH;FMTTYPE=image/jpeg:https://tampamuseum.org/wp-content/uploads/2025/01/Juneteenth-2024-06-15-76_00000.jpg
GEO:27.9495219;-82.4626673
X-APPLE-STRUCTURED-LOCATION;VALUE=URI;X-ADDRESS=Tampa Museum of Art 120 W Gasparilla Plaza Tampa FL 33602 United States;X-APPLE-RADIUS=500;X-TITLE=120 W Gasparilla Plaza:geo:-82.4626673,27.9495219
END:VEVENT
BEGIN:VEVENT
DTSTART;TZID=America/New_York:20260531T150000
DTEND;TZID=America/New_York:20260531T151000
DTSTAMP:20260425T225608
CREATED:20260424T192544Z
LAST-MODIFIED:20260424T192544Z
UID:10008602-1780239600-1780240200@tampamuseum.org
SUMMARY:Gallery Chats
DESCRIPTION:Join the Visitor Experience Team for brief\, casual 5–10-minute Gallery Chats offered at 11 am and 3 pm. \nLed by the Visitor Experience Team\, these conversations are a great way to get an in-depth view of the art and further familiarize yourself with our exciting permanent collection and exhibitions. If you’re a first-time guest or long-time art enthusiast stopping in\, we invite you to join us and discover something new! \nOur Gallery Chats are free with admission and open to all visitors. Subject to change based on staff availability.
URL:https://tampamuseum.org/event/gallery-chats-2/2026-05-31/
LOCATION:Tampa Museum of Art\, 120 W Gasparilla Plaza\, Tampa\, FL\, 33602\, United States
CATEGORIES:Adults,Children & Family,Educators,Gallery Activities & Tours,Lectures & Talks
ATTACH;FMTTYPE=image/jpeg:https://tampamuseum.org/wp-content/uploads/2026/04/Gallery-Talks-2026-1.jpg
GEO:27.9495219;-82.4626673
X-APPLE-STRUCTURED-LOCATION;VALUE=URI;X-ADDRESS=Tampa Museum of Art 120 W Gasparilla Plaza Tampa FL 33602 United States;X-APPLE-RADIUS=500;X-TITLE=120 W Gasparilla Plaza:geo:-82.4626673,27.9495219
END:VEVENT
BEGIN:VEVENT
DTSTART;TZID=America/New_York:20260601T150000
DTEND;TZID=America/New_York:20260601T151000
DTSTAMP:20260425T225608
CREATED:20260424T192544Z
LAST-MODIFIED:20260424T192544Z
UID:10008603-1780326000-1780326600@tampamuseum.org
SUMMARY:Gallery Chats
DESCRIPTION:Join the Visitor Experience Team for brief\, casual 5–10-minute Gallery Chats offered at 11 am and 3 pm. \nLed by the Visitor Experience Team\, these conversations are a great way to get an in-depth view of the art and further familiarize yourself with our exciting permanent collection and exhibitions. If you’re a first-time guest or long-time art enthusiast stopping in\, we invite you to join us and discover something new! \nOur Gallery Chats are free with admission and open to all visitors. Subject to change based on staff availability.
URL:https://tampamuseum.org/event/gallery-chats-2/2026-06-01/
LOCATION:Tampa Museum of Art\, 120 W Gasparilla Plaza\, Tampa\, FL\, 33602\, United States
CATEGORIES:Adults,Children & Family,Educators,Gallery Activities & Tours,Lectures & Talks
ATTACH;FMTTYPE=image/jpeg:https://tampamuseum.org/wp-content/uploads/2026/04/Gallery-Talks-2026-1.jpg
GEO:27.9495219;-82.4626673
X-APPLE-STRUCTURED-LOCATION;VALUE=URI;X-ADDRESS=Tampa Museum of Art 120 W Gasparilla Plaza Tampa FL 33602 United States;X-APPLE-RADIUS=500;X-TITLE=120 W Gasparilla Plaza:geo:-82.4626673,27.9495219
END:VEVENT
BEGIN:VEVENT
DTSTART;TZID=America/New_York:20260602T150000
DTEND;TZID=America/New_York:20260602T151000
DTSTAMP:20260425T225608
CREATED:20260424T192544Z
LAST-MODIFIED:20260424T192544Z
UID:10008604-1780412400-1780413000@tampamuseum.org
SUMMARY:Gallery Chats
DESCRIPTION:Join the Visitor Experience Team for brief\, casual 5–10-minute Gallery Chats offered at 11 am and 3 pm. \nLed by the Visitor Experience Team\, these conversations are a great way to get an in-depth view of the art and further familiarize yourself with our exciting permanent collection and exhibitions. If you’re a first-time guest or long-time art enthusiast stopping in\, we invite you to join us and discover something new! \nOur Gallery Chats are free with admission and open to all visitors. Subject to change based on staff availability.
URL:https://tampamuseum.org/event/gallery-chats-2/2026-06-02/
LOCATION:Tampa Museum of Art\, 120 W Gasparilla Plaza\, Tampa\, FL\, 33602\, United States
CATEGORIES:Adults,Children & Family,Educators,Gallery Activities & Tours,Lectures & Talks
ATTACH;FMTTYPE=image/jpeg:https://tampamuseum.org/wp-content/uploads/2026/04/Gallery-Talks-2026-1.jpg
GEO:27.9495219;-82.4626673
X-APPLE-STRUCTURED-LOCATION;VALUE=URI;X-ADDRESS=Tampa Museum of Art 120 W Gasparilla Plaza Tampa FL 33602 United States;X-APPLE-RADIUS=500;X-TITLE=120 W Gasparilla Plaza:geo:-82.4626673,27.9495219
END:VEVENT
BEGIN:VEVENT
DTSTART;TZID=America/New_York:20260603T150000
DTEND;TZID=America/New_York:20260603T151000
DTSTAMP:20260425T225608
CREATED:20260424T192544Z
LAST-MODIFIED:20260424T192544Z
UID:10008605-1780498800-1780499400@tampamuseum.org
SUMMARY:Gallery Chats
DESCRIPTION:Join the Visitor Experience Team for brief\, casual 5–10-minute Gallery Chats offered at 11 am and 3 pm. \nLed by the Visitor Experience Team\, these conversations are a great way to get an in-depth view of the art and further familiarize yourself with our exciting permanent collection and exhibitions. If you’re a first-time guest or long-time art enthusiast stopping in\, we invite you to join us and discover something new! \nOur Gallery Chats are free with admission and open to all visitors. Subject to change based on staff availability.
URL:https://tampamuseum.org/event/gallery-chats-2/2026-06-03/
LOCATION:Tampa Museum of Art\, 120 W Gasparilla Plaza\, Tampa\, FL\, 33602\, United States
CATEGORIES:Adults,Children & Family,Educators,Gallery Activities & Tours,Lectures & Talks
ATTACH;FMTTYPE=image/jpeg:https://tampamuseum.org/wp-content/uploads/2026/04/Gallery-Talks-2026-1.jpg
GEO:27.9495219;-82.4626673
X-APPLE-STRUCTURED-LOCATION;VALUE=URI;X-ADDRESS=Tampa Museum of Art 120 W Gasparilla Plaza Tampa FL 33602 United States;X-APPLE-RADIUS=500;X-TITLE=120 W Gasparilla Plaza:geo:-82.4626673,27.9495219
END:VEVENT
BEGIN:VEVENT
DTSTART;TZID=America/New_York:20260604T150000
DTEND;TZID=America/New_York:20260604T151000
DTSTAMP:20260425T225608
CREATED:20260424T192544Z
LAST-MODIFIED:20260424T192544Z
UID:10008606-1780585200-1780585800@tampamuseum.org
SUMMARY:Gallery Chats
DESCRIPTION:Join the Visitor Experience Team for brief\, casual 5–10-minute Gallery Chats offered at 11 am and 3 pm. \nLed by the Visitor Experience Team\, these conversations are a great way to get an in-depth view of the art and further familiarize yourself with our exciting permanent collection and exhibitions. If you’re a first-time guest or long-time art enthusiast stopping in\, we invite you to join us and discover something new! \nOur Gallery Chats are free with admission and open to all visitors. Subject to change based on staff availability.
URL:https://tampamuseum.org/event/gallery-chats-2/2026-06-04/
LOCATION:Tampa Museum of Art\, 120 W Gasparilla Plaza\, Tampa\, FL\, 33602\, United States
CATEGORIES:Adults,Children & Family,Educators,Gallery Activities & Tours,Lectures & Talks
ATTACH;FMTTYPE=image/jpeg:https://tampamuseum.org/wp-content/uploads/2026/04/Gallery-Talks-2026-1.jpg
GEO:27.9495219;-82.4626673
X-APPLE-STRUCTURED-LOCATION;VALUE=URI;X-ADDRESS=Tampa Museum of Art 120 W Gasparilla Plaza Tampa FL 33602 United States;X-APPLE-RADIUS=500;X-TITLE=120 W Gasparilla Plaza:geo:-82.4626673,27.9495219
END:VEVENT
BEGIN:VEVENT
DTSTART;TZID=America/New_York:20260605T150000
DTEND;TZID=America/New_York:20260605T151000
DTSTAMP:20260425T225608
CREATED:20260424T192544Z
LAST-MODIFIED:20260424T192544Z
UID:10008607-1780671600-1780672200@tampamuseum.org
SUMMARY:Gallery Chats
DESCRIPTION:Join the Visitor Experience Team for brief\, casual 5–10-minute Gallery Chats offered at 11 am and 3 pm. \nLed by the Visitor Experience Team\, these conversations are a great way to get an in-depth view of the art and further familiarize yourself with our exciting permanent collection and exhibitions. If you’re a first-time guest or long-time art enthusiast stopping in\, we invite you to join us and discover something new! \nOur Gallery Chats are free with admission and open to all visitors. Subject to change based on staff availability.
URL:https://tampamuseum.org/event/gallery-chats-2/2026-06-05/
LOCATION:Tampa Museum of Art\, 120 W Gasparilla Plaza\, Tampa\, FL\, 33602\, United States
CATEGORIES:Adults,Children & Family,Educators,Gallery Activities & Tours,Lectures & Talks
ATTACH;FMTTYPE=image/jpeg:https://tampamuseum.org/wp-content/uploads/2026/04/Gallery-Talks-2026-1.jpg
GEO:27.9495219;-82.4626673
X-APPLE-STRUCTURED-LOCATION;VALUE=URI;X-ADDRESS=Tampa Museum of Art 120 W Gasparilla Plaza Tampa FL 33602 United States;X-APPLE-RADIUS=500;X-TITLE=120 W Gasparilla Plaza:geo:-82.4626673,27.9495219
END:VEVENT
BEGIN:VEVENT
DTSTART;TZID=America/New_York:20260606T150000
DTEND;TZID=America/New_York:20260606T151000
DTSTAMP:20260425T225608
CREATED:20260424T192544Z
LAST-MODIFIED:20260424T192544Z
UID:10008608-1780758000-1780758600@tampamuseum.org
SUMMARY:Gallery Chats
DESCRIPTION:Join the Visitor Experience Team for brief\, casual 5–10-minute Gallery Chats offered at 11 am and 3 pm. \nLed by the Visitor Experience Team\, these conversations are a great way to get an in-depth view of the art and further familiarize yourself with our exciting permanent collection and exhibitions. If you’re a first-time guest or long-time art enthusiast stopping in\, we invite you to join us and discover something new! \nOur Gallery Chats are free with admission and open to all visitors. Subject to change based on staff availability.
URL:https://tampamuseum.org/event/gallery-chats-2/2026-06-06/
LOCATION:Tampa Museum of Art\, 120 W Gasparilla Plaza\, Tampa\, FL\, 33602\, United States
CATEGORIES:Adults,Children & Family,Educators,Gallery Activities & Tours,Lectures & Talks
ATTACH;FMTTYPE=image/jpeg:https://tampamuseum.org/wp-content/uploads/2026/04/Gallery-Talks-2026-1.jpg
GEO:27.9495219;-82.4626673
X-APPLE-STRUCTURED-LOCATION;VALUE=URI;X-ADDRESS=Tampa Museum of Art 120 W Gasparilla Plaza Tampa FL 33602 United States;X-APPLE-RADIUS=500;X-TITLE=120 W Gasparilla Plaza:geo:-82.4626673,27.9495219
END:VEVENT
END:VCALENDAR