BEGIN:VCALENDAR
VERSION:2.0
PRODID:-//Tampa Museum of Art - ECPv6.15.20//NONSGML v1.0//EN
CALSCALE:GREGORIAN
METHOD:PUBLISH
X-WR-CALNAME:Tampa Museum of Art
X-ORIGINAL-URL:https://tampamuseum.org
X-WR-CALDESC:Events for Tampa Museum of Art
REFRESH-INTERVAL;VALUE=DURATION:PT1H
X-Robots-Tag:noindex
X-PUBLISHED-TTL:PT1H
BEGIN:VTIMEZONE
TZID:America/New_York
BEGIN:DAYLIGHT
TZOFFSETFROM:-0500
TZOFFSETTO:-0400
TZNAME:EDT
DTSTART:20260308T070000
END:DAYLIGHT
BEGIN:STANDARD
TZOFFSETFROM:-0400
TZOFFSETTO:-0500
TZNAME:EST
DTSTART:20261101T060000
END:STANDARD
BEGIN:DAYLIGHT
TZOFFSETFROM:-0500
TZOFFSETTO:-0400
TZNAME:EDT
DTSTART:20270314T070000
END:DAYLIGHT
BEGIN:STANDARD
TZOFFSETFROM:-0400
TZOFFSETTO:-0500
TZNAME:EST
DTSTART:20271107T060000
END:STANDARD
BEGIN:DAYLIGHT
TZOFFSETFROM:-0500
TZOFFSETTO:-0400
TZNAME:EDT
DTSTART:20280312T070000
END:DAYLIGHT
BEGIN:STANDARD
TZOFFSETFROM:-0400
TZOFFSETTO:-0500
TZNAME:EST
DTSTART:20281105T060000
END:STANDARD
END:VTIMEZONE
BEGIN:VEVENT
DTSTART;TZID=America/New_York:20271002T100000
DTEND;TZID=America/New_York:20271003T170000
DTSTAMP:20260425T223850
CREATED:20250701T183922Z
LAST-MODIFIED:20250925T200344Z
UID:10006064-1822471200-1822582800@tampamuseum.org
SUMMARY:Bank of America "Museums on Us" Weekend
DESCRIPTION:We’ve partnered with Bank of America to bring you Museums on Us. For the first weekend of every month\, active Bank of America\, Merrill or Bank of America Private Bank credit or debit cardholders with a valid photo ID receive one free general admission to the Tampa Museum of Art. \nThis offer is exclusive to the cardholder and does not apply to ticketed and special exhibitions or fundraising events. \nIf you have any questions about visiting the Tampa Museum of Art\, please call 813.274.8130. \nLearn more about Bank of America’s Museums on Us program.
URL:https://tampamuseum.org/event/bank-of-america-museums-of-us-weekend-2/2027-10-02/
LOCATION:Tampa Museum of Art\, 120 W Gasparilla Plaza\, Tampa\, FL\, 33602\, United States
CATEGORIES:Free Event
ATTACH;FMTTYPE=image/jpeg:https://tampamuseum.org/wp-content/uploads/2025/03/IMG_20220801_154024_WEB.jpg
GEO:27.9495219;-82.4626673
X-APPLE-STRUCTURED-LOCATION;VALUE=URI;X-ADDRESS=Tampa Museum of Art 120 W Gasparilla Plaza Tampa FL 33602 United States;X-APPLE-RADIUS=500;X-TITLE=120 W Gasparilla Plaza:geo:-82.4626673,27.9495219
END:VEVENT
BEGIN:VEVENT
DTSTART;TZID=America/New_York:20271002T110000
DTEND;TZID=America/New_York:20271002T111000
DTSTAMP:20260425T223850
CREATED:20260423T164728Z
LAST-MODIFIED:20260423T164728Z
UID:10007258-1822474800-1822475400@tampamuseum.org
SUMMARY:Gallery Chats
DESCRIPTION:Join the Visitor Experience Team for brief\, casual 5–10-minute Gallery Chats offered at 11 am and 3 pm. \nLed by the Visitor Experience Team\, these conversations are a great way to get an in-depth view of the art and further familiarize yourself with our exciting permanent collection and exhibitions. If you’re a first-time guest or long-time art enthusiast stopping in\, we invite you to join us and discover something new! \nOur Gallery Chats are free with admission and open to all visitors. Subject to change based on staff availability. \n 
URL:https://tampamuseum.org/event/gallery-chats/2027-10-02/
LOCATION:Tampa Museum of Art\, 120 W Gasparilla Plaza\, Tampa\, FL\, 33602\, United States
CATEGORIES:Gallery Activities & Tours
ATTACH;FMTTYPE=image/jpeg:https://tampamuseum.org/wp-content/uploads/2026/04/Gallery-Talks-2026-1.jpg
GEO:27.9495219;-82.4626673
X-APPLE-STRUCTURED-LOCATION;VALUE=URI;X-ADDRESS=Tampa Museum of Art 120 W Gasparilla Plaza Tampa FL 33602 United States;X-APPLE-RADIUS=500;X-TITLE=120 W Gasparilla Plaza:geo:-82.4626673,27.9495219
END:VEVENT
BEGIN:VEVENT
DTSTART;TZID=America/New_York:20271002T150000
DTEND;TZID=America/New_York:20271002T151000
DTSTAMP:20260425T223850
CREATED:20260424T192544Z
LAST-MODIFIED:20260424T192544Z
UID:10009091-1822489200-1822489800@tampamuseum.org
SUMMARY:Gallery Chats
DESCRIPTION:Join the Visitor Experience Team for brief\, casual 5–10-minute Gallery Chats offered at 11 am and 3 pm. \nLed by the Visitor Experience Team\, these conversations are a great way to get an in-depth view of the art and further familiarize yourself with our exciting permanent collection and exhibitions. If you’re a first-time guest or long-time art enthusiast stopping in\, we invite you to join us and discover something new! \nOur Gallery Chats are free with admission and open to all visitors. Subject to change based on staff availability.
URL:https://tampamuseum.org/event/gallery-chats-2/2027-10-02/
LOCATION:Tampa Museum of Art\, 120 W Gasparilla Plaza\, Tampa\, FL\, 33602\, United States
CATEGORIES:Adults,Children & Family,Educators,Gallery Activities & Tours,Lectures & Talks
ATTACH;FMTTYPE=image/jpeg:https://tampamuseum.org/wp-content/uploads/2026/04/Gallery-Talks-2026-1.jpg
GEO:27.9495219;-82.4626673
X-APPLE-STRUCTURED-LOCATION;VALUE=URI;X-ADDRESS=Tampa Museum of Art 120 W Gasparilla Plaza Tampa FL 33602 United States;X-APPLE-RADIUS=500;X-TITLE=120 W Gasparilla Plaza:geo:-82.4626673,27.9495219
END:VEVENT
END:VCALENDAR